{"text_format":"1","workbook":"xlsx","n_sheets":4,"sheets":["Корма","Нормы","Рецепт","Справка"],"not_rendered":{"charts":0,"images":0,"macros":1,"external_links":0,"defined_names":64,"comments":1,"pivot_tables":0},"unopened":[],"bounds":{"document_bytes":16777216,"sheet_cells":100000,"rows_first":2000,"rows_last":500,"rows_between":2000,"halvings":0,"cell_chars":16384,"cell_head_chars":4096},"cells_cut":0,"cells_raw":0,"read":"whole","date_system":"1900"}

{"sheet":"Корма","index":0,"n_rows":170,"n_cols":35,"rows_kept":170,"cut":false,"hidden":false,"merged":[]}
[null,null,"Состав и питательность кормов, %"]
["№ п.п.","Код","Сырье","Отметить корма (*) ","Обменная энергия в 1 кг, ккал","Сырой протеин","Сырой жир","Сырая клетчатка","Сырая зола","БЭВ","Лизин","Метионин","Триптофан","Метионин+цистин","Кальций","Фосфор",null,"Отметить корма (*) ",null,"№ п.п.","Код","Сырье","Отметить корма (*) ","Обменная энергия в 1 кг, ккал","Сырой протеин","Сырой жир","Сырая клетчатка","Сырая зола","БЭВ","Лизин","Метионин","Триптофан","Метионин+цистин","Кальций","Фосфор"]
[1.0,"Грубые корма","Сенная мука",null,3018.0,10.0,2.5,25.0,5.0,47.5,1.0,0.1,0.2,0.4,1.7,0.2,null,"*",null,6.0,"Грубые корма","Мука из древесной зелени I сорта","*",3036.0,6.0,4.3,23.9,5.3,50.5,0.25,0.13,0.33,0.21,0.91,0.11]
[2.0,"Грубые корма","Мука   и   крупка   водорослевая",null,2575.0,6.0,2.5,10.0,17.0,54.5,4.0,0.5,0.08,0.6,0.5,0.1,null,null,null,15.0,"Зерновые злаки","Пшеница   щуплая","*",3031.0,15.0,1.9,4.3,1.7,63.1,0.38,0.18,0.18,0.39,0.05,0.42]
[3.0,"Грубые корма","Корма травяные I класса",null,3173.0,17.3,6.4,22.0,8.1,36.2,0.79,0.22,0.27,0.43,1.22,0.26,null,null,null,38.0,"Отходы мукомольного производства","Зерновая смесь от первичной обработки с 50—70% зерна","*",2893.0,11.7,1.4,7.4,4.0,61.5,0.23,0.1,0.08,0.19,0.23,0.34]
[4.0,"Грубые корма","Корма травяные II класса",null,3182.0,15.9,6.4,24.0,7.3,36.4,0.68,0.17,0.24,0.32,1.01,0.21,null,null,null,76.0,"Жмыхи и шроты","Шрот подсолнечный, обогащенный липидами","*",3411.0,37.2,4.8,9.8,6.2,32.0,1.21,0.72,0.47,1.29,0.4,0.9]
[5.0,"Грубые корма","Корма травяные III класса",null,3006.0,14.2,2.7,27.1,7.2,38.8,0.58,0.16,0.24,0.28,0.92,0.21,null,null,null,113.0,"Сахаристые корма","Сахар","*",2952.0,null,null,null,null,90.0]
[6.0,"Грубые корма","Мука из древесной зелени I сорта","*",3036.0,6.0,4.3,23.9,5.3,50.5,0.25,0.13,0.33,0.21,0.91,0.11,null,null,null,127.0,"Мука рыбная","Мука рыбная с 66% сырого протеина","*",3723.0,68.5,7.4,null,11.8,2.3,5.5,1.6,0.71,3.1,4.0,2.5]
[7.0,"Грубые корма","Мука из древесной зелени II сорта",null,2927.0,5.9,3.0,30.7,6.9,43.5,0.23,0.11,0.28,0.19,1.05,0.11,null,null,null,159.0,"Аминокислоты","ККЛ","*",3037.0,34.3,0.5,0.8,10.9,43.5,6.2,0.49,0.85,0.79,2.76,1.08]
[8.0,"Грубые корма","Мука кормовая из яблочных выжимок",null,2925.0,8.2,1.0,16.0,5.2,59.6,0.2,0.08,0.16,0.16,0.34,0.14,null,null,null,160.0,"Аминокислоты","Метионин кормовой","*",2919.0,null,null,null,1.0,89.0,null,98.0,null,98.0]
[9.0,"Грубые корма","Мука из герани",null,2581.0,12.2,1.7,20.0,18.1,38.0,0.55,0.16,0.28,0.28,0.32,0.3,null,null,null,161.0,"Минералы","Мел кормовой","*",null,null,null,null,null,null,null,null,null,null,33.0]
[10.0,"Грубые корма","Мука из базилика",null,2894.0,12.2,3.2,27.1,10.5,37.0,0.46,0.12,0.23,0.24,0.28,0.33,null,null,null,164.0,"Минералы","Монокальцийфосфат","*",null,null,null,null,null,null,null,null,null,null,16.4,23.0]
[11.0,"Корнеклубнеплоды","Картофель  сушеный",null,2924.0,7.0,0.4,2.0,4.0,76.6,0.3,0.1,0.3,0.1,0.06,0.3,null,null,null,168.0,"Минералы","Соль поваренная","*"]
[12.0,"Корнеклубнеплоды","Морковь   сушеная",null,2964.0,10.0,2.0,9.0,6.0,63.0,0.5,0.1,0.1,0.2,0.1,0.1]
[13.0,"Корнеклубнеплоды","Свекла сушеная",null,2904.0,5.0,0.5,7.0,4.0,73.5,0.2,0.07,0.04,0.07,0.2,0.1]
[14.0,"Зерновые злаки","Пшеница ",null,3004.0,11.5,2.2,2.7,1.6,68.0,0.36,0.18,0.16,0.38,0.04,0.3]
[15.0,"Зерновые злаки","Пшеница   щуплая","*",3031.0,15.0,1.9,4.3,1.7,63.1,0.38,0.18,0.18,0.39,0.05,0.42]
[16.0,"Зерновые злаки","Ячмень",null,2971.0,11.0,2.2,5.5,2.4,64.9,0.4,0.18,0.13,0.39,0.06,0.34]
[17.0,"Зерновые злаки","Ячмень  без  пленок",null,3042.0,12.2,2.9,2.2,1.6,67.1,0.45,0.19,0.17,0.4,0.07,0.35]
[18.0,"Зерновые злаки","Овес",null,3044.0,10.5,4.5,10.3,3.0,57.7,0.33,0.14,0.15,0.34,0.12,0.35]
[19.0,"Зерновые злаки","Овес  без  пленок",null,3114.0,12.0,4.7,4.7,1.7,62.9,0.41,0.16,0.16,0.36,0.12,0.25]
[20.0,"Зерновые злаки","Просо",null,3015.0,10.7,3.6,9.0,2.8,59.9,0.25,0.2,0.15,0.36,0.07,0.3]
[21.0,"Зерновые злаки","Рожь",null,2991.0,11.4,2.0,2.4,1.7,68.5,0.4,0.18,0.11,0.37,0.08,0.3]
[22.0,"Зерновые злаки","Горох",null,3050.0,20.4,1.5,5.4,2.6,56.1,1.48,0.2,0.17,0.47,0.14,0.37]
[23.0,"Зерновые злаки","Кукуруза",null,3060.0,9.0,4.0,2.2,1.3,69.5,0.26,0.16,0.08,0.27,0.03,0.25]
[24.0,"Зерновые злаки","Чумиза",null,2983.0,11.1,3.9,9.0,4.3,57.7,0.54,0.13,0.2,0.32,0.07,0.3]
[25.0,"Зерновые злаки","Сорго",null,2990.0,8.3,2.8,3.0,1.6,70.3,0.25,0.15,0.1,0.3,0.06,0.26]
[26.0,"Зерновые злаки","Рис",null,2845.0,8.3,2.1,8.4,5.1,62.1,0.28,0.16,0.09,0.27,0.07,0.23]
[27.0,"Зерновые злаки","Рис  шелушеный",null,2827.0,8.0,1.3,2.0,4.5,70.2,0.28,0.16,0.08,0.26,0.07,0.23]
[28.0,"Зерновые бобовые","Соя",null,3798.0,34.0,16.6,7.0,4.6,23.8,2.1,0.46,0.36,0.93,0.3,0.55]
[29.0,"Зерновые бобовые","Вика",null,3070.0,24.1,1.5,5.6,3.4,51.4,1.31,0.27,0.15,0.49,0.15,0.39]
[30.0,"Зерновые бобовые","Чина",null,3098.0,25.9,1.1,5.7,2.7,50.6,1.67,0.24,0.22,0.44,0.15,0.5]
[31.0,"Зерновые бобовые","Чечевица",null,3084.0,25.2,1.3,4.3,3.1,52.1,1.51,0.28,0.14,0.41,0.12,0.35]
[32.0,"Зерновые злаки","Тритикале",null,3050.0,15.1,2.4,2.3,1.8,64.4,0.41,0.13,0.14,0.33,0.06,0.34]
[33.0,"Зерновые бобовые","Бобы   кормовые",null,3094.0,25.0,1.5,6.6,3.0,49.9,1.4,0.21,0.28,0.39,0.11,0.5]
[34.0,"Зерновые бобовые","Люпин  кормовой",null,3274.0,32.0,3.7,13.5,3.0,33.8,1.45,0.37,0.21,0.74,0.29,0.43]
[35.0,"Зерновые бобовые","Нут",null,3221.0,22.6,4.7,2.5,2.4,53.8,1.42,0.4,0.17,0.59,0.07,0.3]
[36.0,"Зерновые злаки","Полба",null,2999.0,13.6,2.1,8.6,2.4,59.3,0.4,0.24,0.17,0.45,0.09,0.23]
[37.0,"Отходы мукомольного производства","Побочные   продукты   из   пшеницы",null,2950.0,11.6,1.3,2.3,2.1,68.7,0.33,0.26,0.17,0.36,0.15,0.23]
[38.0,"Отходы мукомольного производства","Зерновая смесь от первичной обработки с 50—70% зерна","*",2893.0,11.7,1.4,7.4,4.0,61.5,0.23,0.1,0.08,0.19,0.23,0.34]
[39.0,"Отходы мукомольного производства","Зерновая смесь от первичной  обработки  с 71—85%   зерна",null,2946.0,12.5,1.4,4.7,2.7,64.7,0.29,0.14,0.1,0.25,0.25,0.32]
[40.0,"Семена масличных","Семена подсолнечника",null,5128.0,18.4,47.8,20.1,2.9,0.8,1.18,0.41,0.26,1.28,0.37,0.53]
[41.0,"Зерновые злаки","Мука пшеничная II сорта",null,3037.0,13.6,2.0,0.7,1.1,68.6,0.39,0.19,0.16,0.4,0.03,0.19]
[42.0,"Зерновые злаки","Мука  кормовая  ячменная",null,2958.0,12.1,2.1,3.1,3.1,65.6,0.45,0.13,0.16,0.39,0.07,0.34]
[43.0,"Зерновые злаки","Мука   кормовая   овсяная",null,3034.0,11.7,4.3,8.0,3.5,58.5,0.4,0.17,0.16,0.38,0.11,0.28]
[44.0,"Зерновые злаки","Сухари",null,3344.0,8.9,10.6,0.1,1.2,65.2,0.29,0.14,0.12,0.32,0.02,0.08]
[45.0,"Зерновые злаки","Сухари панировочные пшеничные",null,2943.0,11.2,1.4,0.4,2.3,70.7,0.34,0.17,0.13,0.37,0.05,0.15]
[46.0,"Зерновые злаки","Сухари ржано-пшеничные",null,2940.0,12.0,1.8,1.9,3.2,67.1,0.37,0.18,0.14,0.39,0.06,0.3]
[47.0,"Зерновые злаки","Сухари обойно-пшеничные",null,2972.0,13.1,2.0,2.0,2.9,66.0,0.4,0.2,0.15,0.42,0.05,0.35]
[48.0,"Зерновые злаки","Сухари черные",null,2926.0,11.2,1.7,1.9,3.2,68.0,0.38,0.17,0.13,0.38,0.06,0.27]
[49.0,"Зерновые злаки","Сухари из муки I сорта",null,2940.0,11.2,1.4,0.6,2.4,70.4,0.35,0.17,0.14,0.37,0.05,0.19]
[50.0,"Зерновые злаки","Сухари из муки II сорта",null,2950.0,11.2,1.4,0.2,2.1,71.1,0.34,0.17,0.18,0.37,0.04,0.12]
[51.0,"Отходы мукомольного производства","Отруби   пшеничные",null,3037.0,15.0,4.2,9.0,4.5,53.3,0.55,0.16,0.21,0.37,0.14,1.0]
[52.0,"Отходы мукомольного производства","Отруби   ржаные",null,2993.0,15.0,3.4,7.0,4.8,55.8,0.57,0.18,0.1,0.44,0.11,0.7]
[53.0,"Отходы мукомольного производства","Отруби   кукурузные",null,3118.0,10.0,5.6,8.5,2.0,59.9,0.21,0.14,0.06,0.22,0.3,0.5]
[54.0,"Отходы мукомольного производства","Отруби рисовые",null,3033.0,12.9,6.0,12.5,6.2,48.4,0.51,0.23,0.12,0.43,0.25,0.23]
[55.0,"Отходы мукомольного производства","Мучка кормовая пшеничная",null,3048.0,14.2,3.0,4.0,2.3,62.5,0.48,0.21,0.18,0.4,0.07,0.3]
[56.0,"Отходы мукомольного производства","Мучка   кормовая   ячменная",null,2918.0,14.0,3.0,5.0,6.2,57.8,0.44,0.15,0.15,0.33,0.11,0.37]
[57.0,"Отходы мукомольного производства","Мучка кормовая просяная",null,3034.0,12.1,5.1,11.3,4.7,52.8,0.33,0.15,0.15,0.35,0.14,0.4]
[58.0,"Отходы мукомольного производства","Мучка кормовая гороховая",null,3053.0,22.2,1.8,7.3,3.6,51.1,1.35,0.37,0.23,0.75,0.12,0.43]
[59.0,"Отходы мукомольного производства","Мучка кормовая кукурузная",null,3039.0,9.3,3.8,3.0,1.8,68.1,0.26,0.14,0.08,0.24,0.04,0.3]
[60.0,"Отходы мукомольного производства","Мучка кормовая рисовая",null,2999.0,9.5,8.1,12.7,8.7,47.0,0.35,0.25,0.2,0.42,0.24,0.43]
[61.0,"Отходы мукомольного производства","Мучка кормовая овсяная",null,3012.0,11.6,4.2,10.2,4.0,56.0,0.36,0.15,0.14,0.3,0.16,0.33]
[62.0,"Отходы мукомольного производства","Мучка кормовая ржаная",null,3067.0,13.1,3.9,3.2,2.5,63.3,0.44,0.21,0.13,0.46,0.07,0.41]
[63.0,"Отходы мукомольного производства","Мучка кормовая гречневая",null,2898.0,11.4,2.9,9.0,5.7,57.0,0.64,0.23,0.17,0.43,0.16,0.23]
[64.0,"Зерновые злаки","Зародыш пшеничный",null,3471.0,29.9,10.9,3.0,5.6,36.6,1.33,0.36,0.22,0.67,0.59,0.89]
[65.0,"Зерновые злаки","Зародыш кукурузный",null,3423.0,11.9,14.5,6.5,5.0,48.1,0.96,0.26,0.22,0.56,0.52,0.73]
[66.0,"Зерновые злаки","Пшеница экструдированная",null,3031.0,11.0,2.3,2.8,1.7,69.2,0.35,0.18,0.16,0.37,0.04,0.32]
[67.0,"Зерновые злаки","Ячмень экструдированный",null,2995.0,10.2,2.3,5.7,2.5,66.3,0.4,0.18,0.12,0.38,0.06,0.35]
[68.0,"Зерновые злаки","Ячмень без пленок экструдированный",null,3082.0,12.7,3.0,2.3,1.7,67.3,0.47,0.2,0.18,0.42,0.07,0.36]
[69.0,"Зерновые злаки","Овес экструдированный",null,3087.0,10.9,4.7,10.7,3.1,57.6,0.4,0.15,0.16,0.35,0.12,0.36]
[70.0,"Зерновые злаки","Овес без пленок экструдированный",null,3158.0,12.5,4.9,4.9,1.8,62.9,0.43,0.17,0.17,0.37,0.12,0.26]
[71.0,"Зерновые бобовые","Горох экструдированный",null,3094.0,21.2,1.6,5.6,2.7,55.9,1.54,0.21,0.18,0.49,0.15,0.39]
[72.0,"Зерновые злаки","Кукуруза экструдированный",null,3084.0,8.5,4.1,2.3,1.5,70.6,0.27,0.16,0.09,0.25,0.06,0.3]
[73.0,"Зерновые бобовые","Соя экструдированная",null,3823.0,35.3,16.2,7.3,4.8,23.4,2.94,0.48,0.37,0.97,0.31,0.57]
[74.0,"Зерновые злаки","Хлопья сорго",null,3092.0,10.0,2.7,2.0,null,72.3,0.25,0.15,0.37,0.3,0.04,0.25]
[75.0,"Отходы крахмального производства","Мезга картофельная сухая",null,3010.0,22.0,0.4,7.0,7.0,53.6,null,null,null,null,0.06,0.1]
[76.0,"Жмыхи и шроты","Шрот подсолнечный, обогащенный липидами","*",3411.0,37.2,4.8,9.8,6.2,32.0,1.21,0.72,0.47,1.29,0.4,0.9]
[77.0,"Жмыхи и шроты","Шрот подсолнечный экструдированный",null,3501.0,38.8,1.7,13.9,null,35.6,1.33,0.78,null,1.3,0.33,0.82]
[78.0,"Жмыхи и шроты","Шрот подсолнечный с 41% сырого протеина и более",null,3327.0,42.9,1.5,12.5,6.6,26.5,1.4,0.9,0.54,1.62,0.3,1.0]
[79.0,"Жмыхи и шроты","Шрот подсолнечный с 40% сырого протеина",null,3295.0,38.8,1.7,14.1,6.3,29.1,1.33,0.78,0.52,1.43,0.32,0.91]
[80.0,"Жмыхи и шроты","Шрот подсолнечный с 38% сырого протеина",null,3276.0,36.0,1.9,14.9,6.1,31.1,1.2,0.68,0.45,1.22,0.42,0.9]
[81.0,"Жмыхи и шроты","Шрот подсолнечный с 46 до 50%",null,3414.0,49.0,1.4,1.3,6.1,32.2,3.14,0.5,0.58,0.97,0.49,1.32]
[82.0,"Жмыхи и шроты","Шрот подсолнечный с 40 до 45%",null,3275.0,42.5,1.4,1.5,7.9,36.7,2.85,0.42,0.55,0.8,0.67,1.4]
[83.0,"Жмыхи и шроты","Жмых подсолнечный",null,3567.0,40.2,7.5,13.3,6.1,22.9,1.47,0.77,0.56,1.4,0.33,0.91]
[84.0,"Жмыхи и шроты","Шрот соевый кормовой с более 46% сырого протеина",null,3454.0,49.7,1.9,7.0,5.8,25.6,2.84,0.66,0.6,1.42,0.39,0.78]
[85.0,"Жмыхи и шроты","Шрот соевый кормовой с 41—45% сырого протеина",null,3319.0,42.0,1.2,7.0,6.1,33.7,2.71,0.6,0.59,1.3,0.38,0.65]
[86.0,"Жмыхи и шроты","Шрот соевый кормовой с менее 41% сырого протеина",null,3308.0,40.0,1.2,10.6,5.7,32.5,2.36,0.47,0.49,1.08,0.37,0.65]
[87.0,"Жмыхи и шроты","Жмых соевый кормовой",null,3460.0,35.6,5.8,7.3,5.4,35.9,2.26,0.45,0.55,0.94,0.42,0.63]
[88.0,"Жмыхи и шроты","Шрот соевый экструдированный",null,3519.0,42.0,1.2,5.54,null,41.26,2.71,0.6,null,1.3,0.38,0.65]
[89.0,"Жмыхи и шроты","Шрот хлопковый с 41% сырого протеина",null,3340.0,41.4,2.0,13.0,6.3,27.3,1.76,0.55,0.55,1.3,0.28,1.0]
[90.0,"Жмыхи и шроты","Шрот хлопковый с 36—40% сырого протеина",null,3284.0,37.5,1.9,14.0,6.4,30.2,1.7,0.5,0.67,1.21,0.28,1.0]
[91.0,"Жмыхи и шроты","Шрот хлопковый с менее 36% сырого протеина",null,3253.0,33.0,2.0,15.1,5.8,34.1,1.4,0.18,0.47,1.09,0.3,0.9]
[92.0,"Жмыхи и шроты","Жмых хлопковый",null,3551.0,37.0,8.2,11.3,6.3,27.2,1.59,0.44,0.5,1.01,0.36,0.95]
[93.0,"Жмыхи и шроты","Шрот льняной",null,3218.0,33.3,1.8,9.8,6.7,38.4,1.21,0.53,0.52,1.13,0.33,0.76]
[94.0,"Жмыхи и шроты","Жмых льняной",null,3468.0,32.5,7.7,12.1,6.5,31.2,1.04,0.46,0.4,0.93,0.39,1.01]
[95.0,"Жмыхи и шроты","Шрот арахисовый с более 46% сырого протеина",null,3408.0,50.0,1.2,8.8,6.4,23.6,1.7,0.5,0.5,1.14,0.18,0.53]
[96.0,"Жмыхи и шроты","Шрот арахисовый с менее 46% сырого протеина",null,3301.0,41.6,1.2,9.1,6.5,31.6,1.52,0.5,0.36,1.14,0.18,0.53]
[97.0,"Жмыхи и шроты","Жмых арахисовый",null,3599.0,47.5,5.7,4.6,5.5,26.7,1.58,0.45,0.51,1.04,0.24,0.67]
[98.0,"Жмыхи и шроты","Шрот кориандровый",null,2985.0,15.7,2.0,23.9,7.5,40.9,0.65,0.15,0.2,0.37,1.06,0.6]
[99.0,"Жмыхи и шроты","Шрот кокосовый",null,3324.0,20.4,7.2,13.9,5.7,42.8,0.58,0.32,0.18,0.51,0.14,0.57]
[100.0,"Жмыхи и шроты","Шрот клещевинный",null,3271.0,40.0,1.8,23.5,7.6,17.1,1.17,0.4,0.59,1.06,0.7,0.46]
[101.0,"Жмыхи и шроты","Шрот рапсовый",null,3241.0,36.0,2.1,12.0,7.4,32.5,1.78,0.55,0.51,1.68,0.6,0.8]
[102.0,"Жмыхи и шроты","Жмых рапсовый",null,3539.0,33.0,9.0,13.2,6.2,28.6,1.58,0.54,0.49,1.33,0.8,1.0]
[103.0,"Жмыхи и шроты","Жмых из виноградных семян",null,3282.0,12.6,6.4,34.6,3.0,33.4,0.26,0.3,0.21,0.48,0.47,0.31]
[104.0,"Жмыхи и шроты","Жмых  сафлеровый",null,3272.0,18.0,5.0,36.0,3.5,27.5,0.5,0.3,0.2,0.6,0.4,0.7]
[105.0,"Жмыхи и шроты","Жмых кунжутный",null,3531.0,39.0,10.0,7.0,10.0,24.0,1.2,1.1,0.9,1.7,1.5,0.5]
[106.0,"Жмыхи и шроты","Жмых сурепконый",null,3456.0,32.0,9.5,12.0,9.0,27.5,2.0,0.5,0.6,1.8,0.3,0.4]
[107.0,"Отходы технических производств","Шелуха хлопковая",null,3054.0,12.0,2.0,12.0,4.0,60.0,null,null,null,null,0.3,0.2]
[108.0,"Крахмал","Крахмал  картофельный",null,2951.0,0.7,null,null,0.3,89.0]
[109.0,"Сахаристые корма","Меласса свекловичная",null,2815.0,8.9,null,null,7.5,73.6,null,null,null,null,0.25,0.02]
[110.0,"Сахаристые корма","Патока   крахмальная",null,2943.0,0.6,null,null,0.5,88.9,null,null,null,null,0.03,0.01]
[111.0,"Сахаристые корма","Гидрол",null,2994.0,5.0,null,null,0.6,84.4]
[112.0,"Сахаристые корма","Кормовой   сахар",null,2866.0,2.0,0.1,0.5,3.5,83.9]
[113.0,"Сахаристые корма","Сахар","*",2952.0,null,null,null,null,90.0]
[114.0,"Сахаристые корма","Древесный  гидролизный  сахар",null,2713.0,0.6,null,null,7.5,81.9]
[115.0,"Отходы технических производств","Жом свекловичный сушеный",null,2935.0,8.3,0.6,18.3,4.4,58.4,0.49,0.08,0.09,0.17,1.08,0.11]
[116.0,"Отходы технических производств","Кукурузный корм сухой",null,3213.0,16.4,4.3,8.6,3.8,56.9,0.56,0.3,0.15,0.58,0.28,0.62]
[117.0,"Отходы технических производств","Барда сухая",null,3266.0,23.0,4.5,9.2,4.9,48.4,0.84,0.43,0.16,0.68,0.44,0.44]
[118.0,"Отходы технических производств","Дробина пивная",null,3228.0,21.6,3.4,14.3,4.1,46.6,0.65,0.3,0.21,0.4,0.09,0.43]
[119.0,"Дрожжи","Сухой мицелий",null,2642.0,31.2,1.5,5.1,23.1,29.1,1.44,0.3,1.1,0.39,0.87,0.17]
[120.0,"Дрожжи","Дрожжи гидролизные",null,3605.0,49.0,1.2,1.4,null,38.4,3.14,0.5,null,0.9,0.59,1.32]
[121.0,"Дрожжи","Дрожжи  пивные",null,3302.0,46.0,1.1,1.2,8.0,33.7,3.8,0.7,0.5,1.3,0.3,0.2]
[122.0,"Дрожжи","Дрожжи кормовые   сульфитные",null,3318.0,43.0,3.1,1.3,9.0,33.6,3.5,0.5,0.4,0.8,0.5,1.1]
[123.0,"Дрожжи","Дрожжи  пекарские",null,3429.0,49.0,3.6,0.9,8.5,28.0,3.9,0.6,0.3,0.9,0.07,0.3]
[124.0,"Дрожжи","Дрожжи БВК (паприн)",null,3353.0,48.6,0.7,0.6,6.9,33.2,3.7,0.57,0.7,1.09,0.2,1.08]
[125.0,"Дрожжи","Дрожжи кормовые (эприн)",null,3403.0,56.6,0.5,0.7,8.1,24.1,4.39,0.8,0.7,1.52,0.19,1.14]
[126.0,"Дрожжи","Дрожжи кормовые с содержанием сырого протеина свыше 50%",null,3487.0,54.3,1.5,1.0,6.0,27.2,3.36,0.55,0.63,1.05,0.38,1.13]
[127.0,"Мука рыбная","Мука рыбная с 66% сырого протеина","*",3723.0,68.5,7.4,null,11.8,2.3,5.5,1.6,0.71,3.1,4.0,2.5]
[128.0,"Мука рыбная","Мука рыбная с 61—65% сырого протеина",null,3564.0,63.0,7.4,null,14.6,5.0,5.05,1.66,0.65,2.03,4.5,2.7]
[129.0,"Мука рыбная","Мука рыбная с 56—60% сырого протеина",null,3445.0,58.1,8.1,null,17.3,6.5,4.66,1.53,0.6,2.63,5.5,4.1]
[130.0,"Мука рыбная","Мука рыбная с 51—55% сырого протеина",null,3378.0,52.5,8.6,null,17.9,11.0,4.21,1.38,0.54,2.38,6.3,4.7]
[131.0,"Мука рыбная","Мука рыбная с 48—50% сырого протеина",null,3320.0,48.0,9.3,null,18.9,13.8,3.84,1.26,0.5,2.17,8.0,6.4]
[132.0,"Мука мясокостная","Мука кормовая мясокостная с 50% сырого протеина",null,3585.0,50.0,14.0,null,17.7,8.3,2.92,0.68,0.46,1.16,7.43,3.85]
[133.0,"Мука мясокостная","Мука кормовая мясокостная 42—49% сырого протеина",null,3612.0,44.0,16.6,2.0,18.0,9.4,2.33,0.53,0.41,0.87,8.14,4.23]
[134.0,"Мука мясокостная","Мука кормовая мясокостная с 36—41% сырого протеина",null,3257.0,37.9,13.8,2.0,22.9,13.4,2.0,0.52,0.34,0.81,9.05,4.8]
[135.0,"Мука мясокостная и костная","Мука кормовая мясокостная с менее 36% оырого протеина",null,3175.0,34.1,17.5,2.0,28.8,7.6,1.74,0.5,0.33,0.77,10.5,5.35]
[136.0,"Мука мясокостная и костная","Мука кормовая костная необезжиренная",null,1859.0,18.1,13.1,null,57.2,1.6,0.7,0.25,0.1,0.39,19.0,9.37]
[137.0,"Мука мясокостная и костная","Мука кормовая костная обезжиренная",null,1173.0,7.2,1.5,null,58.9,22.4,0.33,0.06,0.06,0.14,21.2,12.4]
[138.0,"Мука мясокостная и костная","Мука кровяная",null,3773.0,75.0,3.1,null,7.1,4.8,6.2,0.91,1.06,2.05,0.37,0.34]
[139.0,"Мука мясокостная и костная","Мука мясная",null,3713.0,54.0,14.1,null,15.4,6.5,3.62,0.9,0.44,1.36,5.6,2.82]
[140.0,"Мука рыбная","Мука крабовая",null,2479.0,37.2,1.8,1.1,30.7,19.2,1.82,0.62,0.38,1.03,4.28,1.59]
[141.0,"Мука рыбная","Мука креветочная",null,2994.0,44.5,5.0,4.2,21.9,14.4,2.44,0.69,0.48,1.09,5.17,1.39]
[142.0,"Мука рыбная","Мука кормовая крилевая",null,3804.0,52.8,12.8,1.3,10.5,12.6,3.3,1.03,0.47,0.52,3.08,1.7]
[143.0,"Мука рыбная","Мука кормовая китовая",null,3175.0,59.2,6.7,null,24.1,0.0,3.78,1.29,0.87,2.04,3.39,2.5]
[144.0,"Рыба свежая","Рыба свежая",null,1116.0,16.0,5.0,null,1.5,0.5,0.5,0.2,0.3,0.4,0.9,0.7]
[145.0,"Мука мясокостная и костная","Мука из гидролизного пера",null,3979.0,79.9,4.6,null,4.6,0.9,1.57,0.42,0.4,4.0,0.6,0.56]
[146.0,"Мясные продукты","Баранина",null,null,20.0,9.0,null,0.8,null,1.8,0.5,0.2,0.9,0.09,0.16]
[147.0,"Мясные продукты","Говядина",null,null,22.0,4.0,null,1.0,null,1.8,0.6,0.2,0.9,0.09,0.16]
[148.0,"Мясные продукты","Субпродукты",null,null,15.0,3.0,null,1.0,null,1.7,0.5,0.2,0.9,0.08,0.2]
[149.0,"Молочные продукты","Молоко сухое обезжиренное",null,3146.0,33.3,0.8,null,7.6,48.3,2.85,0.86,0.43,1.13,1.29,0.98]
[150.0,"Молочные продукты","Сыворотка молочная сухая",null,3023.0,11.3,0.8,null,3.1,74.8,0.87,0.4,0.14,0.9,1.18,0.66]
[151.0,"Молочные продукты","Казеин",null,4066.0,79.8,6.2,null,8.2,0.0,6.14,2.79,0.96,6.35,1.34,1.0]
[152.0,"Молочные продукты","Молоко обезжиренное",null,322.0,3.3,0.3,null,0.8,4.6,0.2,0.09,0.03,0.1,0.12,0.1]
[153.0,"Молочные продукты","Пахта  сухая",null,3084.0,29.0,0.9,null,8.0,52.1,0.6,0.8,0.5,1.1,1.3,0.7]
[154.0,"Молочные продукты","Творог свежий",null,null,16.0,0.5,null,0.7,null,6.4,2.5,null,3.2,0.2,0.2]
[155.0,"Жиры","Жиры животные пищевые",null,null,null,99.0]
[156.0,"Жиры","Жиры    кондитерские   и   кулинарные",null,null,null,99.0]
[157.0,"Жиры","Жир животный кормовой",null,7406.0,null,98.0,null,null,0.0]
[158.0,"Жиры","Фосфатидный концентрат",null,4441.0,26.1,31.6,0.7,5.6,26.0,1.19,0.39,0.21,0.69,0.42,1.07]
[159.0,"Аминокислоты","ККЛ","*",3037.0,34.3,0.5,0.8,10.9,43.5,6.2,0.49,0.85,0.79,2.76,1.08]
[160.0,"Аминокислоты","Метионин кормовой","*",2919.0,null,null,null,1.0,89.0,null,98.0,null,98.0]
[161.0,"Минералы","Мел кормовой","*",null,null,null,null,null,null,null,null,null,null,33.0]
[162.0,"Минералы","Известняки",null,null,null,null,null,null,null,null,null,null,null,32.0]
[163.0,"Минералы","Ракушка",null,null,null,null,null,null,null,null,null,null,null,33.0]
[164.0,"Минералы","Монокальцийфосфат","*",null,null,null,null,null,null,null,null,null,null,16.4,23.0]
[165.0,"Минералы","Дикальцийфосфат",null,null,null,null,null,null,null,null,null,null,null,25.0,18.8]
[166.0,"Минералы","Трикальцийфосфат",null,null,null,null,null,null,null,null,null,null,null,32.0,14.0]
[167.0,"Минералы","Мука костная (для минеральной подкормки)",null,null,null,null,null,null,null,null,null,null,null,26.5,14.0]
[168.0,"Минералы","Соль поваренная","*"]

{"sheet":"Нормы","index":1,"n_rows":6,"n_cols":29,"rows_kept":6,"cut":false,"hidden":false,"merged":[]}
["№ п.п.","Возрастная и технологическая группа карпа","Отметить группу (*) ","Обменная энергия не менее, ккал/кг","Массовая доля влаги %","Массовая доля сырой клетчатки % не более","Массовая доля сырого протеина не менее, %","Массовая доля лизина, не менее %","Массовая доля суммы метионина и цистина, не менее %","Массовая доля кальция не менее %","Массовая доля фосфора не менее %","Массовая доля золы,  не более %","Массовая доля натрия,  не более %",null,"Отметить группу (*) ",null,"№ п.п.","Возрастная и технологическая группа карпа","Отметить группу (*) ","Обменная энергия не менее, ккал/кг","Массовая доля влаги %","Массовая доля сырой клетчатки % не более","Массовая доля сырого протеина не менее, %","Массовая доля лизина, не менее %","Массовая доля суммы метионина и цистина, не менее %","Массовая доля кальция не менее %","Массовая доля фосфора не менее %","Массовая доля золы,  не более %","Массовая доля натрия,  не более %"]
[1.0,"Сеголеток",null,2400.0,13.5,6.0,26.0,1.0,0.7,1.2,1.0,10.0,0.6,null,"*",null,5.0,"Племенной молодняк","*",2400.0,13.5,6.0,26.0,1.0,0.8,1.4,1.0,10.0,0.6]
[2.0,"Двухлеток",null,2300.0,13.5,10.0,23.0,0.7,0.8,0.7,0.7,10.0,0.6]
[3.0,"Трехлеток",null,2300.0,13.5,6.0,26.0,1.0,0.8,1.4,1.0,10.0,0.6]
[4.0,"Производители",null,2400.0,13.5,6.0,26.0,1.0,0.8,1.4,1.0,10.0,0.6]
[5.0,"Племенной молодняк","*",2400.0,13.5,6.0,26.0,1.0,0.8,1.4,1.0,10.0,0.6]

{"sheet":"Рецепт","index":2,"n_rows":55,"n_cols":15,"rows_kept":55,"cut":false,"hidden":false,"merged":[[1,0,2,0],[1,1,2,1],[1,2,2,2],[1,4,2,4],[1,5,1,14]]}
["Рецепт полнорационного комбикорма для ",{"$f":"'Нормы'!R2","v":"Племенной молодняк"}]
["Показатель","Содержание в комбикорме, %","минимальная норма ввода в комбикорма",null,"Обменная энергия в 1 кг, ккал","Питательные вещества, %"]
[null,null,null,"максимальные нормы ввода в комбикорма",null,"Сырой протеин","Сырой жир","Сырая клетчатка","Сырая зола","Лизин","Метионин","Триптофан","Метионин+цистин","Кальций","Фосфор"]
["ограничение","=",null,null,">=",">=",">=","<=","<=",">=",">=",">=",">=",">=",">="]
["Норма",100.0,null,null,{"$f":"'Нормы'!T2","v":2400},{"$f":"'Нормы'!W2","v":26},null,{"$f":"'Нормы'!V2","v":6},{"$f":"'Нормы'!AB2","v":10},{"$f":"'Нормы'!X2","v":1},null,null,{"$f":"'Нормы'!Y2","v":0.8},{"$f":"'Нормы'!Z2","v":1.4},{"$f":"'Нормы'!AA2","v":1}]
["Всего",{"$f":"SUM(B10:B55)","v":100},null,null,{"$f":"SUM(E10:E55)","v":3161.446323},26,3.364202093,7.612304784,4.792509573,1,0.4651318627,0.3103793942,0.8671144389,0.804926927,0.8420278618]
["Разница к норме, абсолютная",{"$f":"IF(B5>0,B6-B5,\"нет нормы\")","v":0},null,null,{"$f":"IF(E5>0,E6-E5,\"нет нормы\")","v":761.4463233},0,"нет нормы",1.612304784,-5.207490427,0,"нет нормы","нет нормы",0.06711443885,-0.595073073,-0.1579721382]
["Разница к норме, %",{"$f":"IF(B6<>\"нет нормы\",B6/B5*100-100,\"\")","v":0},null,null,{"$f":"IF(E6<>\"нет нормы\",E6/E5*100-100,\"\")","v":31.72693014},0,"#DIV/0!",26.8717464,-52.07490427,0,"#DIV/0!","#DIV/0!",8.389304857,-42.5052195,-15.79721382]
["Ингредиенты:"]
[{"$f":"IF('Корма'!V3<>0,'Корма'!V3,\"\")","v":"Мука из древесной зелени I сорта"},3.89151443200911,0.0,100.0,{"$f":"IF('Корма'!X3<>0,'Корма'!X3*'Рецепт'!$B10/100,\"\")","v":118.1463782},{"$f":"IF('Корма'!Y3<>0,'Корма'!Y3*'Рецепт'!$B10/100,\"\")","v":0.2334908659},{"$f":"'Корма'!Z3*'Рецепт'!$B10/100","v":0.1673351206},{"$f":"IF('Корма'!AA3<>0,'Корма'!AA3*'Рецепт'!$B10/100,\"\")","v":0.9300719493},{"$f":"IF('Корма'!AB3<>0,'Корма'!AB3*'Рецепт'!$B10/100,\"\")","v":0.2062502649},{"$f":"IF('Корма'!AD3<>0,'Корма'!AD3*'Рецепт'!$B10/100,\"\")","v":0.00972878608},{"$f":"'Корма'!AE3*'Рецепт'!$B10/100","v":0.005058968762},{"$f":"'Корма'!AF3*'Рецепт'!$B10/100","v":0.01284199763},{"$f":"IF('Корма'!AG3<>0,'Корма'!AG3*'Рецепт'!$B10/100,\"\")","v":0.008172180307},{"$f":"IF('Корма'!AH3<>0,'Корма'!AH3*'Рецепт'!$B10/100,\"\")","v":0.03541278133},{"$f":"IF('Корма'!AI3<>0,'Корма'!AI3*'Рецепт'!$B10/100,\"\")","v":0.004280665875}]
[{"$f":"IF('Корма'!V4<>0,'Корма'!V4,\"\")","v":"Пшеница   щуплая"},25.098775926488216,0.0,100.0,{"$f":"IF('Корма'!X4<>0,'Корма'!X4*'Рецепт'!$B11/100,\"\")","v":760.7438983},{"$f":"IF('Корма'!Y4<>0,'Корма'!Y4*'Рецепт'!$B11/100,\"\")","v":3.764816389},{"$f":"'Корма'!Z4*'Рецепт'!$B11/100","v":0.4768767426},{"$f":"IF('Корма'!AA4<>0,'Корма'!AA4*'Рецепт'!$B11/100,\"\")","v":1.079247365},{"$f":"IF('Корма'!AB4<>0,'Корма'!AB4*'Рецепт'!$B11/100,\"\")","v":0.4266791908},{"$f":"IF('Корма'!AD4<>0,'Корма'!AD4*'Рецепт'!$B11/100,\"\")","v":0.09537534852},{"$f":"'Корма'!AE4*'Рецепт'!$B11/100","v":0.04517779667},{"$f":"'Корма'!AF4*'Рецепт'!$B11/100","v":0.04517779667},{"$f":"IF('Корма'!AG4<>0,'Корма'!AG4*'Рецепт'!$B11/100,\"\")","v":0.09788522611},{"$f":"IF('Корма'!AH4<>0,'Корма'!AH4*'Рецепт'!$B11/100,\"\")","v":0.01254938796},{"$f":"IF('Корма'!AI4<>0,'Корма'!AI4*'Рецепт'!$B11/100,\"\")","v":0.1054148589}]
[{"$f":"IF('Корма'!V5<>0,'Корма'!V5,\"\")","v":"Зерновая смесь от первичной обработки с 50—70% зерна"},22.810095631681683,0.0,100.0,{"$f":"IF('Корма'!X5<>0,'Корма'!X5*'Рецепт'!$B12/100,\"\")","v":659.8960666},{"$f":"IF('Корма'!Y5<>0,'Корма'!Y5*'Рецепт'!$B12/100,\"\")","v":2.668781189},{"$f":"'Корма'!Z5*'Рецепт'!$B12/100","v":0.3193413388},{"$f":"IF('Корма'!AA5<>0,'Корма'!AA5*'Рецепт'!$B12/100,\"\")","v":1.687947077},{"$f":"IF('Корма'!AB5<>0,'Корма'!AB5*'Рецепт'!$B12/100,\"\")","v":0.9124038253},{"$f":"IF('Корма'!AD5<>0,'Корма'!AD5*'Рецепт'!$B12/100,\"\")","v":0.05246321995},{"$f":"'Корма'!AE5*'Рецепт'!$B12/100","v":0.02281009563},{"$f":"'Корма'!AF5*'Рецепт'!$B12/100","v":0.01824807651},{"$f":"IF('Корма'!AG5<>0,'Корма'!AG5*'Рецепт'!$B12/100,\"\")","v":0.0433391817},{"$f":"IF('Корма'!AH5<>0,'Корма'!AH5*'Рецепт'!$B12/100,\"\")","v":0.05246321995},{"$f":"IF('Корма'!AI5<>0,'Корма'!AI5*'Рецепт'!$B12/100,\"\")","v":0.07755432515}]
[{"$f":"IF('Корма'!V6<>0,'Корма'!V6,\"\")","v":"Шрот подсолнечный, обогащенный липидами"},39.94937135605046,0.0,100.0,{"$f":"IF('Корма'!X6<>0,'Корма'!X6*'Рецепт'!$B13/100,\"\")","v":1362.673057},{"$f":"IF('Корма'!Y6<>0,'Корма'!Y6*'Рецепт'!$B13/100,\"\")","v":14.86116614},{"$f":"'Корма'!Z6*'Рецепт'!$B13/100","v":1.917569825},{"$f":"IF('Корма'!AA6<>0,'Корма'!AA6*'Рецепт'!$B13/100,\"\")","v":3.915038393},{"$f":"IF('Корма'!AB6<>0,'Корма'!AB6*'Рецепт'!$B13/100,\"\")","v":2.476861024},{"$f":"IF('Корма'!AD6<>0,'Корма'!AD6*'Рецепт'!$B13/100,\"\")","v":0.4833873934},{"$f":"'Корма'!AE6*'Рецепт'!$B13/100","v":0.2876354738},{"$f":"'Корма'!AF6*'Рецепт'!$B13/100","v":0.1877620454},{"$f":"IF('Корма'!AG6<>0,'Корма'!AG6*'Рецепт'!$B13/100,\"\")","v":0.5153468905},{"$f":"IF('Корма'!AH6<>0,'Корма'!AH6*'Рецепт'!$B13/100,\"\")","v":0.1597974854},{"$f":"IF('Корма'!AI6<>0,'Корма'!AI6*'Рецепт'!$B13/100,\"\")","v":0.3595443422}]
[{"$f":"IF('Корма'!V7<>0,'Корма'!V7,\"\")","v":"Сахар"},0.5740490540553167,0.0,100.0,{"$f":"IF('Корма'!X7<>0,'Корма'!X7*'Рецепт'!$B14/100,\"\")","v":16.94592808},{"$f":"IF('Корма'!Y7<>0,'Корма'!Y7*'Рецепт'!$B14/100,\"\")","v":""},{"$f":"'Корма'!Z7*'Рецепт'!$B14/100","v":0},{"$f":"IF('Корма'!AA7<>0,'Корма'!AA7*'Рецепт'!$B14/100,\"\")","v":""},{"$f":"IF('Корма'!AB7<>0,'Корма'!AB7*'Рецепт'!$B14/100,\"\")","v":""},{"$f":"IF('Корма'!AD7<>0,'Корма'!AD7*'Рецепт'!$B14/100,\"\")","v":""},{"$f":"'Корма'!AE7*'Рецепт'!$B14/100","v":0},{"$f":"'Корма'!AF7*'Рецепт'!$B14/100","v":0},{"$f":"IF('Корма'!AG7<>0,'Корма'!AG7*'Рецепт'!$B14/100,\"\")","v":""},{"$f":"IF('Корма'!AH7<>0,'Корма'!AH7*'Рецепт'!$B14/100,\"\")","v":""},{"$f":"IF('Корма'!AI7<>0,'Корма'!AI7*'Рецепт'!$B14/100,\"\")","v":""}]
[{"$f":"IF('Корма'!V8<>0,'Корма'!V8,\"\")","v":"Мука рыбная с 66% сырого протеина"},6.528095491604591,0.0,100.0,{"$f":"IF('Корма'!X8<>0,'Корма'!X8*'Рецепт'!$B15/100,\"\")","v":243.0409952},{"$f":"IF('Корма'!Y8<>0,'Корма'!Y8*'Рецепт'!$B15/100,\"\")","v":4.471745412},{"$f":"'Корма'!Z8*'Рецепт'!$B15/100","v":0.4830790664},{"$f":"IF('Корма'!AA8<>0,'Корма'!AA8*'Рецепт'!$B15/100,\"\")","v":""},{"$f":"IF('Корма'!AB8<>0,'Корма'!AB8*'Рецепт'!$B15/100,\"\")","v":0.770315268},{"$f":"IF('Корма'!AD8<>0,'Корма'!AD8*'Рецепт'!$B15/100,\"\")","v":0.359045252},{"$f":"'Корма'!AE8*'Рецепт'!$B15/100","v":0.1044495279},{"$f":"'Корма'!AF8*'Рецепт'!$B15/100","v":0.04634947799},{"$f":"IF('Корма'!AG8<>0,'Корма'!AG8*'Рецепт'!$B15/100,\"\")","v":0.2023709602},{"$f":"IF('Корма'!AH8<>0,'Корма'!AH8*'Рецепт'!$B15/100,\"\")","v":0.2611238197},{"$f":"IF('Корма'!AI8<>0,'Корма'!AI8*'Рецепт'!$B15/100,\"\")","v":0.1632023873}]
[{"$f":"IF('Корма'!V9<>0,'Корма'!V9,\"\")","v":"ККЛ"},0.0,0.0,100.0,{"$f":"IF('Корма'!X9<>0,'Корма'!X9*'Рецепт'!$B16/100,\"\")","v":0},{"$f":"IF('Корма'!Y9<>0,'Корма'!Y9*'Рецепт'!$B16/100,\"\")","v":0},{"$f":"'Корма'!Z9*'Рецепт'!$B16/100","v":0},{"$f":"IF('Корма'!AA9<>0,'Корма'!AA9*'Рецепт'!$B16/100,\"\")","v":0},{"$f":"IF('Корма'!AB9<>0,'Корма'!AB9*'Рецепт'!$B16/100,\"\")","v":0},{"$f":"IF('Корма'!AD9<>0,'Корма'!AD9*'Рецепт'!$B16/100,\"\")","v":0},{"$f":"'Корма'!AE9*'Рецепт'!$B16/100","v":0},{"$f":"'Корма'!AF9*'Рецепт'!$B16/100","v":0},{"$f":"IF('Корма'!AG9<>0,'Корма'!AG9*'Рецепт'!$B16/100,\"\")","v":0},{"$f":"IF('Корма'!AH9<>0,'Корма'!AH9*'Рецепт'!$B16/100,\"\")","v":0},{"$f":"IF('Корма'!AI9<>0,'Корма'!AI9*'Рецепт'!$B16/100,\"\")","v":0}]
[{"$f":"IF('Корма'!V10<>0,'Корма'!V10,\"\")","v":"Метионин кормовой"},0.0,0.0,2.0,{"$f":"IF('Корма'!X10<>0,'Корма'!X10*'Рецепт'!$B17/100,\"\")","v":0},{"$f":"IF('Корма'!Y10<>0,'Корма'!Y10*'Рецепт'!$B17/100,\"\")","v":""},{"$f":"'Корма'!Z10*'Рецепт'!$B17/100","v":0},{"$f":"IF('Корма'!AA10<>0,'Корма'!AA10*'Рецепт'!$B17/100,\"\")","v":""},{"$f":"IF('Корма'!AB10<>0,'Корма'!AB10*'Рецепт'!$B17/100,\"\")","v":0},{"$f":"IF('Корма'!AD10<>0,'Корма'!AD10*'Рецепт'!$B17/100,\"\")","v":""},{"$f":"'Корма'!AE10*'Рецепт'!$B17/100","v":0},{"$f":"'Корма'!AF10*'Рецепт'!$B17/100","v":0},{"$f":"IF('Корма'!AG10<>0,'Корма'!AG10*'Рецепт'!$B17/100,\"\")","v":0},{"$f":"IF('Корма'!AH10<>0,'Корма'!AH10*'Рецепт'!$B17/100,\"\")","v":""},{"$f":"IF('Корма'!AI10<>0,'Корма'!AI10*'Рецепт'!$B17/100,\"\")","v":""}]
[{"$f":"IF('Корма'!V11<>0,'Корма'!V11,\"\")","v":"Мел кормовой"},0.5740490540553167,0.0,3.0,{"$f":"IF('Корма'!X11<>0,'Корма'!X11*'Рецепт'!$B18/100,\"\")","v":""},{"$f":"IF('Корма'!Y11<>0,'Корма'!Y11*'Рецепт'!$B18/100,\"\")","v":""},{"$f":"'Корма'!Z11*'Рецепт'!$B18/100","v":0},{"$f":"IF('Корма'!AA11<>0,'Корма'!AA11*'Рецепт'!$B18/100,\"\")","v":""},{"$f":"IF('Корма'!AB11<>0,'Корма'!AB11*'Рецепт'!$B18/100,\"\")","v":""},{"$f":"IF('Корма'!AD11<>0,'Корма'!AD11*'Рецепт'!$B18/100,\"\")","v":""},{"$f":"'Корма'!AE11*'Рецепт'!$B18/100","v":0},{"$f":"'Корма'!AF11*'Рецепт'!$B18/100","v":0},{"$f":"IF('Корма'!AG11<>0,'Корма'!AG11*'Рецепт'!$B18/100,\"\")","v":""},{"$f":"IF('Корма'!AH11<>0,'Корма'!AH11*'Рецепт'!$B18/100,\"\")","v":0.1894361878},{"$f":"IF('Корма'!AI11<>0,'Корма'!AI11*'Рецепт'!$B18/100,\"\")","v":""}]
[{"$f":"IF('Корма'!V12<>0,'Корма'!V12,\"\")","v":"Монокальцийфосфат"},0.5740490540553167,0.0,100.0,{"$f":"IF('Корма'!X12<>0,'Корма'!X12*'Рецепт'!$B19/100,\"\")","v":""},{"$f":"IF('Корма'!Y12<>0,'Корма'!Y12*'Рецепт'!$B19/100,\"\")","v":""},{"$f":"'Корма'!Z12*'Рецепт'!$B19/100","v":0},{"$f":"IF('Корма'!AA12<>0,'Корма'!AA12*'Рецепт'!$B19/100,\"\")","v":""},{"$f":"IF('Корма'!AB12<>0,'Корма'!AB12*'Рецепт'!$B19/100,\"\")","v":""},{"$f":"IF('Корма'!AD12<>0,'Корма'!AD12*'Рецепт'!$B19/100,\"\")","v":""},{"$f":"'Корма'!AE12*'Рецепт'!$B19/100","v":0},{"$f":"'Корма'!AF12*'Рецепт'!$B19/100","v":0},{"$f":"IF('Корма'!AG12<>0,'Корма'!AG12*'Рецепт'!$B19/100,\"\")","v":""},{"$f":"IF('Корма'!AH12<>0,'Корма'!AH12*'Рецепт'!$B19/100,\"\")","v":0.09414404487},{"$f":"IF('Корма'!AI12<>0,'Корма'!AI12*'Рецепт'!$B19/100,\"\")","v":0.1320312824}]
[{"$f":"IF('Корма'!V13<>0,'Корма'!V13,\"\")","v":"Соль поваренная"},null,0.0,100.0,{"$f":"IF('Корма'!X13<>0,'Корма'!X13*'Рецепт'!$B20/100,\"\")","v":""},{"$f":"IF('Корма'!Y13<>0,'Корма'!Y13*'Рецепт'!$B20/100,\"\")","v":""},{"$f":"'Корма'!Z13*'Рецепт'!$B20/100","v":0},{"$f":"IF('Корма'!AA13<>0,'Корма'!AA13*'Рецепт'!$B20/100,\"\")","v":""},{"$f":"IF('Корма'!AB13<>0,'Корма'!AB13*'Рецепт'!$B20/100,\"\")","v":""},{"$f":"IF('Корма'!AD13<>0,'Корма'!AD13*'Рецепт'!$B20/100,\"\")","v":""},{"$f":"'Корма'!AE13*'Рецепт'!$B20/100","v":0},{"$f":"'Корма'!AF13*'Рецепт'!$B20/100","v":0},{"$f":"IF('Корма'!AG13<>0,'Корма'!AG13*'Рецепт'!$B20/100,\"\")","v":""},{"$f":"IF('Корма'!AH13<>0,'Корма'!AH13*'Рецепт'!$B20/100,\"\")","v":""},{"$f":"IF('Корма'!AI13<>0,'Корма'!AI13*'Рецепт'!$B20/100,\"\")","v":""}]
[{"$f":"IF('Корма'!V14<>0,'Корма'!V14,\"\")","v":""},null,0.0,100.0,{"$f":"IF('Корма'!X14<>0,'Корма'!X14*'Рецепт'!$B21/100,\"\")","v":""},{"$f":"IF('Корма'!Y14<>0,'Корма'!Y14*'Рецепт'!$B21/100,\"\")","v":""},{"$f":"'Корма'!Z14*'Рецепт'!$B21/100","v":0},{"$f":"IF('Корма'!AA14<>0,'Корма'!AA14*'Рецепт'!$B21/100,\"\")","v":""},{"$f":"IF('Корма'!AB14<>0,'Корма'!AB14*'Рецепт'!$B21/100,\"\")","v":""},{"$f":"IF('Корма'!AD14<>0,'Корма'!AD14*'Рецепт'!$B21/100,\"\")","v":""},{"$f":"'Корма'!AE14*'Рецепт'!$B21/100","v":0},{"$f":"'Корма'!AF14*'Рецепт'!$B21/100","v":0},{"$f":"IF('Корма'!AG14<>0,'Корма'!AG14*'Рецепт'!$B21/100,\"\")","v":""},{"$f":"IF('Корма'!AH14<>0,'Корма'!AH14*'Рецепт'!$B21/100,\"\")","v":""},{"$f":"IF('Корма'!AI14<>0,'Корма'!AI14*'Рецепт'!$B21/100,\"\")","v":""}]
[{"$f":"IF('Корма'!V15<>0,'Корма'!V15,\"\")","v":""},null,0.0,100.0,{"$f":"IF('Корма'!X15<>0,'Корма'!X15*'Рецепт'!$B22/100,\"\")","v":""},{"$f":"IF('Корма'!Y15<>0,'Корма'!Y15*'Рецепт'!$B22/100,\"\")","v":""},{"$f":"'Корма'!Z15*'Рецепт'!$B22/100","v":0},{"$f":"IF('Корма'!AA15<>0,'Корма'!AA15*'Рецепт'!$B22/100,\"\")","v":""},{"$f":"IF('Корма'!AB15<>0,'Корма'!AB15*'Рецепт'!$B22/100,\"\")","v":""},{"$f":"IF('Корма'!AD15<>0,'Корма'!AD15*'Рецепт'!$B22/100,\"\")","v":""},{"$f":"'Корма'!AE15*'Рецепт'!$B22/100","v":0},{"$f":"'Корма'!AF15*'Рецепт'!$B22/100","v":0},{"$f":"IF('Корма'!AG15<>0,'Корма'!AG15*'Рецепт'!$B22/100,\"\")","v":""},{"$f":"IF('Корма'!AH15<>0,'Корма'!AH15*'Рецепт'!$B22/100,\"\")","v":""},{"$f":"IF('Корма'!AI15<>0,'Корма'!AI15*'Рецепт'!$B22/100,\"\")","v":""}]
[{"$f":"IF('Корма'!V16<>0,'Корма'!V16,\"\")","v":""},null,0.0,100.0,{"$f":"IF('Корма'!X16<>0,'Корма'!X16*'Рецепт'!$B23/100,\"\")","v":""},{"$f":"IF('Корма'!Y16<>0,'Корма'!Y16*'Рецепт'!$B23/100,\"\")","v":""},{"$f":"'Корма'!Z16*'Рецепт'!$B23/100","v":0},{"$f":"IF('Корма'!AA16<>0,'Корма'!AA16*'Рецепт'!$B23/100,\"\")","v":""},{"$f":"IF('Корма'!AB16<>0,'Корма'!AB16*'Рецепт'!$B23/100,\"\")","v":""},{"$f":"IF('Корма'!AD16<>0,'Корма'!AD16*'Рецепт'!$B23/100,\"\")","v":""},{"$f":"'Корма'!AE16*'Рецепт'!$B23/100","v":0},{"$f":"'Корма'!AF16*'Рецепт'!$B23/100","v":0},{"$f":"IF('Корма'!AG16<>0,'Корма'!AG16*'Рецепт'!$B23/100,\"\")","v":""},{"$f":"IF('Корма'!AH16<>0,'Корма'!AH16*'Рецепт'!$B23/100,\"\")","v":""},{"$f":"IF('Корма'!AI16<>0,'Корма'!AI16*'Рецепт'!$B23/100,\"\")","v":""}]
[{"$f":"IF('Корма'!V17<>0,'Корма'!V17,\"\")","v":""},null,0.0,100.0,{"$f":"IF('Корма'!X17<>0,'Корма'!X17*'Рецепт'!$B24/100,\"\")","v":""},{"$f":"IF('Корма'!Y17<>0,'Корма'!Y17*'Рецепт'!$B24/100,\"\")","v":""},{"$f":"'Корма'!Z17*'Рецепт'!$B24/100","v":0},{"$f":"IF('Корма'!AA17<>0,'Корма'!AA17*'Рецепт'!$B24/100,\"\")","v":""},{"$f":"IF('Корма'!AB17<>0,'Корма'!AB17*'Рецепт'!$B24/100,\"\")","v":""},{"$f":"IF('Корма'!AD17<>0,'Корма'!AD17*'Рецепт'!$B24/100,\"\")","v":""},{"$f":"'Корма'!AE17*'Рецепт'!$B24/100","v":0},{"$f":"'Корма'!AF17*'Рецепт'!$B24/100","v":0},{"$f":"IF('Корма'!AG17<>0,'Корма'!AG17*'Рецепт'!$B24/100,\"\")","v":""},{"$f":"IF('Корма'!AH17<>0,'Корма'!AH17*'Рецепт'!$B24/100,\"\")","v":""},{"$f":"IF('Корма'!AI17<>0,'Корма'!AI17*'Рецепт'!$B24/100,\"\")","v":""}]
[{"$f":"IF('Корма'!V18<>0,'Корма'!V18,\"\")","v":""},null,0.0,100.0,{"$f":"IF('Корма'!X18<>0,'Корма'!X18*'Рецепт'!$B25/100,\"\")","v":""},{"$f":"IF('Корма'!Y18<>0,'Корма'!Y18*'Рецепт'!$B25/100,\"\")","v":""},{"$f":"'Корма'!Z18*'Рецепт'!$B25/100","v":0},{"$f":"IF('Корма'!AA18<>0,'Корма'!AA18*'Рецепт'!$B25/100,\"\")","v":""},{"$f":"IF('Корма'!AB18<>0,'Корма'!AB18*'Рецепт'!$B25/100,\"\")","v":""},{"$f":"IF('Корма'!AD18<>0,'Корма'!AD18*'Рецепт'!$B25/100,\"\")","v":""},{"$f":"'Корма'!AE18*'Рецепт'!$B25/100","v":0},{"$f":"'Корма'!AF18*'Рецепт'!$B25/100","v":0},{"$f":"IF('Корма'!AG18<>0,'Корма'!AG18*'Рецепт'!$B25/100,\"\")","v":""},{"$f":"IF('Корма'!AH18<>0,'Корма'!AH18*'Рецепт'!$B25/100,\"\")","v":""},{"$f":"IF('Корма'!AI18<>0,'Корма'!AI18*'Рецепт'!$B25/100,\"\")","v":""}]
[{"$f":"IF('Корма'!V19<>0,'Корма'!V19,\"\")","v":""},null,0.0,100.0,{"$f":"IF('Корма'!X19<>0,'Корма'!X19*'Рецепт'!$B26/100,\"\")","v":""},{"$f":"IF('Корма'!Y19<>0,'Корма'!Y19*'Рецепт'!$B26/100,\"\")","v":""},{"$f":"'Корма'!Z19*'Рецепт'!$B26/100","v":0},{"$f":"IF('Корма'!AA19<>0,'Корма'!AA19*'Рецепт'!$B26/100,\"\")","v":""},{"$f":"IF('Корма'!AB19<>0,'Корма'!AB19*'Рецепт'!$B26/100,\"\")","v":""},{"$f":"IF('Корма'!AD19<>0,'Корма'!AD19*'Рецепт'!$B26/100,\"\")","v":""},{"$f":"'Корма'!AE19*'Рецепт'!$B26/100","v":0},{"$f":"'Корма'!AF19*'Рецепт'!$B26/100","v":0},{"$f":"IF('Корма'!AG19<>0,'Корма'!AG19*'Рецепт'!$B26/100,\"\")","v":""},{"$f":"IF('Корма'!AH19<>0,'Корма'!AH19*'Рецепт'!$B26/100,\"\")","v":""},{"$f":"IF('Корма'!AI19<>0,'Корма'!AI19*'Рецепт'!$B26/100,\"\")","v":""}]
[{"$f":"IF('Корма'!V20<>0,'Корма'!V20,\"\")","v":""},null,0.0,100.0,{"$f":"IF('Корма'!X20<>0,'Корма'!X20*'Рецепт'!$B27/100,\"\")","v":""},{"$f":"IF('Корма'!Y20<>0,'Корма'!Y20*'Рецепт'!$B27/100,\"\")","v":""},{"$f":"'Корма'!Z20*'Рецепт'!$B27/100","v":0},{"$f":"IF('Корма'!AA20<>0,'Корма'!AA20*'Рецепт'!$B27/100,\"\")","v":""},{"$f":"IF('Корма'!AB20<>0,'Корма'!AB20*'Рецепт'!$B27/100,\"\")","v":""},{"$f":"IF('Корма'!AD20<>0,'Корма'!AD20*'Рецепт'!$B27/100,\"\")","v":""},{"$f":"'Корма'!AE20*'Рецепт'!$B27/100","v":0},{"$f":"'Корма'!AF20*'Рецепт'!$B27/100","v":0},{"$f":"IF('Корма'!AG20<>0,'Корма'!AG20*'Рецепт'!$B27/100,\"\")","v":""},{"$f":"IF('Корма'!AH20<>0,'Корма'!AH20*'Рецепт'!$B27/100,\"\")","v":""},{"$f":"IF('Корма'!AI20<>0,'Корма'!AI20*'Рецепт'!$B27/100,\"\")","v":""}]
[{"$f":"IF('Корма'!V21<>0,'Корма'!V21,\"\")","v":""},null,0.0,100.0,{"$f":"IF('Корма'!X21<>0,'Корма'!X21*'Рецепт'!$B28/100,\"\")","v":""},{"$f":"IF('Корма'!Y21<>0,'Корма'!Y21*'Рецепт'!$B28/100,\"\")","v":""},{"$f":"'Корма'!Z21*'Рецепт'!$B28/100","v":0},{"$f":"IF('Корма'!AA21<>0,'Корма'!AA21*'Рецепт'!$B28/100,\"\")","v":""},{"$f":"IF('Корма'!AB21<>0,'Корма'!AB21*'Рецепт'!$B28/100,\"\")","v":""},{"$f":"IF('Корма'!AD21<>0,'Корма'!AD21*'Рецепт'!$B28/100,\"\")","v":""},{"$f":"'Корма'!AE21*'Рецепт'!$B28/100","v":0},{"$f":"'Корма'!AF21*'Рецепт'!$B28/100","v":0},{"$f":"IF('Корма'!AG21<>0,'Корма'!AG21*'Рецепт'!$B28/100,\"\")","v":""},{"$f":"IF('Корма'!AH21<>0,'Корма'!AH21*'Рецепт'!$B28/100,\"\")","v":""},{"$f":"IF('Корма'!AI21<>0,'Корма'!AI21*'Рецепт'!$B28/100,\"\")","v":""}]
[{"$f":"IF('Корма'!V22<>0,'Корма'!V22,\"\")","v":""},null,0.0,100.0,{"$f":"IF('Корма'!X22<>0,'Корма'!X22*'Рецепт'!$B29/100,\"\")","v":""},{"$f":"IF('Корма'!Y22<>0,'Корма'!Y22*'Рецепт'!$B29/100,\"\")","v":""},{"$f":"'Корма'!Z22*'Рецепт'!$B29/100","v":0},{"$f":"IF('Корма'!AA22<>0,'Корма'!AA22*'Рецепт'!$B29/100,\"\")","v":""},{"$f":"IF('Корма'!AB22<>0,'Корма'!AB22*'Рецепт'!$B29/100,\"\")","v":""},{"$f":"IF('Корма'!AD22<>0,'Корма'!AD22*'Рецепт'!$B29/100,\"\")","v":""},{"$f":"'Корма'!AE22*'Рецепт'!$B29/100","v":0},{"$f":"'Корма'!AF22*'Рецепт'!$B29/100","v":0},{"$f":"IF('Корма'!AG22<>0,'Корма'!AG22*'Рецепт'!$B29/100,\"\")","v":""},{"$f":"IF('Корма'!AH22<>0,'Корма'!AH22*'Рецепт'!$B29/100,\"\")","v":""},{"$f":"IF('Корма'!AI22<>0,'Корма'!AI22*'Рецепт'!$B29/100,\"\")","v":""}]
[{"$f":"IF('Корма'!V23<>0,'Корма'!V23,\"\")","v":""},null,0.0,100.0,{"$f":"IF('Корма'!X23<>0,'Корма'!X23*'Рецепт'!$B30/100,\"\")","v":""},{"$f":"IF('Корма'!Y23<>0,'Корма'!Y23*'Рецепт'!$B30/100,\"\")","v":""},{"$f":"'Корма'!Z23*'Рецепт'!$B30/100","v":0},{"$f":"IF('Корма'!AA23<>0,'Корма'!AA23*'Рецепт'!$B30/100,\"\")","v":""},{"$f":"IF('Корма'!AB23<>0,'Корма'!AB23*'Рецепт'!$B30/100,\"\")","v":""},{"$f":"IF('Корма'!AD23<>0,'Корма'!AD23*'Рецепт'!$B30/100,\"\")","v":""},{"$f":"'Корма'!AE23*'Рецепт'!$B30/100","v":0},{"$f":"'Корма'!AF23*'Рецепт'!$B30/100","v":0},{"$f":"IF('Корма'!AG23<>0,'Корма'!AG23*'Рецепт'!$B30/100,\"\")","v":""},{"$f":"IF('Корма'!AH23<>0,'Корма'!AH23*'Рецепт'!$B30/100,\"\")","v":""},{"$f":"IF('Корма'!AI23<>0,'Корма'!AI23*'Рецепт'!$B30/100,\"\")","v":""}]
[{"$f":"IF('Корма'!V24<>0,'Корма'!V24,\"\")","v":""},null,0.0,100.0,{"$f":"IF('Корма'!X24<>0,'Корма'!X24*'Рецепт'!$B31/100,\"\")","v":""},{"$f":"IF('Корма'!Y24<>0,'Корма'!Y24*'Рецепт'!$B31/100,\"\")","v":""},{"$f":"'Корма'!Z24*'Рецепт'!$B31/100","v":0},{"$f":"IF('Корма'!AA24<>0,'Корма'!AA24*'Рецепт'!$B31/100,\"\")","v":""},{"$f":"IF('Корма'!AB24<>0,'Корма'!AB24*'Рецепт'!$B31/100,\"\")","v":""},{"$f":"IF('Корма'!AD24<>0,'Корма'!AD24*'Рецепт'!$B31/100,\"\")","v":""},{"$f":"'Корма'!AE24*'Рецепт'!$B31/100","v":0},{"$f":"'Корма'!AF24*'Рецепт'!$B31/100","v":0},{"$f":"IF('Корма'!AG24<>0,'Корма'!AG24*'Рецепт'!$B31/100,\"\")","v":""},{"$f":"IF('Корма'!AH24<>0,'Корма'!AH24*'Рецепт'!$B31/100,\"\")","v":""},{"$f":"IF('Корма'!AI24<>0,'Корма'!AI24*'Рецепт'!$B31/100,\"\")","v":""}]
[{"$f":"IF('Корма'!V25<>0,'Корма'!V25,\"\")","v":""},null,0.0,100.0,{"$f":"IF('Корма'!X25<>0,'Корма'!X25*'Рецепт'!$B32/100,\"\")","v":""},{"$f":"IF('Корма'!Y25<>0,'Корма'!Y25*'Рецепт'!$B32/100,\"\")","v":""},{"$f":"'Корма'!Z25*'Рецепт'!$B32/100","v":0},{"$f":"IF('Корма'!AA25<>0,'Корма'!AA25*'Рецепт'!$B32/100,\"\")","v":""},{"$f":"IF('Корма'!AB25<>0,'Корма'!AB25*'Рецепт'!$B32/100,\"\")","v":""},{"$f":"IF('Корма'!AD25<>0,'Корма'!AD25*'Рецепт'!$B32/100,\"\")","v":""},{"$f":"'Корма'!AE25*'Рецепт'!$B32/100","v":0},{"$f":"'Корма'!AF25*'Рецепт'!$B32/100","v":0},{"$f":"IF('Корма'!AG25<>0,'Корма'!AG25*'Рецепт'!$B32/100,\"\")","v":""},{"$f":"IF('Корма'!AH25<>0,'Корма'!AH25*'Рецепт'!$B32/100,\"\")","v":""},{"$f":"IF('Корма'!AI25<>0,'Корма'!AI25*'Рецепт'!$B32/100,\"\")","v":""}]
[{"$f":"IF('Корма'!V26<>0,'Корма'!V26,\"\")","v":""},null,0.0,100.0,{"$f":"IF('Корма'!X26<>0,'Корма'!X26*'Рецепт'!$B33/100,\"\")","v":""},{"$f":"IF('Корма'!Y26<>0,'Корма'!Y26*'Рецепт'!$B33/100,\"\")","v":""},{"$f":"'Корма'!Z26*'Рецепт'!$B33/100","v":0},{"$f":"IF('Корма'!AA26<>0,'Корма'!AA26*'Рецепт'!$B33/100,\"\")","v":""},{"$f":"IF('Корма'!AB26<>0,'Корма'!AB26*'Рецепт'!$B33/100,\"\")","v":""},{"$f":"IF('Корма'!AD26<>0,'Корма'!AD26*'Рецепт'!$B33/100,\"\")","v":""},{"$f":"'Корма'!AE26*'Рецепт'!$B33/100","v":0},{"$f":"'Корма'!AF26*'Рецепт'!$B33/100","v":0},{"$f":"IF('Корма'!AG26<>0,'Корма'!AG26*'Рецепт'!$B33/100,\"\")","v":""},{"$f":"IF('Корма'!AH26<>0,'Корма'!AH26*'Рецепт'!$B33/100,\"\")","v":""},{"$f":"IF('Корма'!AI26<>0,'Корма'!AI26*'Рецепт'!$B33/100,\"\")","v":""}]
[{"$f":"IF('Корма'!V27<>0,'Корма'!V27,\"\")","v":""},null,0.0,100.0,{"$f":"IF('Корма'!X27<>0,'Корма'!X27*'Рецепт'!$B34/100,\"\")","v":""},{"$f":"IF('Корма'!Y27<>0,'Корма'!Y27*'Рецепт'!$B34/100,\"\")","v":""},{"$f":"'Корма'!Z27*'Рецепт'!$B34/100","v":0},{"$f":"IF('Корма'!AA27<>0,'Корма'!AA27*'Рецепт'!$B34/100,\"\")","v":""},{"$f":"IF('Корма'!AB27<>0,'Корма'!AB27*'Рецепт'!$B34/100,\"\")","v":""},{"$f":"IF('Корма'!AD27<>0,'Корма'!AD27*'Рецепт'!$B34/100,\"\")","v":""},{"$f":"'Корма'!AE27*'Рецепт'!$B34/100","v":0},{"$f":"'Корма'!AF27*'Рецепт'!$B34/100","v":0},{"$f":"IF('Корма'!AG27<>0,'Корма'!AG27*'Рецепт'!$B34/100,\"\")","v":""},{"$f":"IF('Корма'!AH27<>0,'Корма'!AH27*'Рецепт'!$B34/100,\"\")","v":""},{"$f":"IF('Корма'!AI27<>0,'Корма'!AI27*'Рецепт'!$B34/100,\"\")","v":""}]
[{"$f":"IF('Корма'!V28<>0,'Корма'!V28,\"\")","v":""},null,0.0,100.0,{"$f":"IF('Корма'!X28<>0,'Корма'!X28*'Рецепт'!$B35/100,\"\")","v":""},{"$f":"IF('Корма'!Y28<>0,'Корма'!Y28*'Рецепт'!$B35/100,\"\")","v":""},{"$f":"'Корма'!Z28*'Рецепт'!$B35/100","v":0},{"$f":"IF('Корма'!AA28<>0,'Корма'!AA28*'Рецепт'!$B35/100,\"\")","v":""},{"$f":"IF('Корма'!AB28<>0,'Корма'!AB28*'Рецепт'!$B35/100,\"\")","v":""},{"$f":"IF('Корма'!AD28<>0,'Корма'!AD28*'Рецепт'!$B35/100,\"\")","v":""},{"$f":"'Корма'!AE28*'Рецепт'!$B35/100","v":0},{"$f":"'Корма'!AF28*'Рецепт'!$B35/100","v":0},{"$f":"IF('Корма'!AG28<>0,'Корма'!AG28*'Рецепт'!$B35/100,\"\")","v":""},{"$f":"IF('Корма'!AH28<>0,'Корма'!AH28*'Рецепт'!$B35/100,\"\")","v":""},{"$f":"IF('Корма'!AI28<>0,'Корма'!AI28*'Рецепт'!$B35/100,\"\")","v":""}]
[{"$f":"IF('Корма'!V29<>0,'Корма'!V29,\"\")","v":""},null,0.0,100.0,{"$f":"IF('Корма'!X29<>0,'Корма'!X29*'Рецепт'!$B36/100,\"\")","v":""},{"$f":"IF('Корма'!Y29<>0,'Корма'!Y29*'Рецепт'!$B36/100,\"\")","v":""},{"$f":"'Корма'!Z29*'Рецепт'!$B36/100","v":0},{"$f":"IF('Корма'!AA29<>0,'Корма'!AA29*'Рецепт'!$B36/100,\"\")","v":""},{"$f":"IF('Корма'!AB29<>0,'Корма'!AB29*'Рецепт'!$B36/100,\"\")","v":""},{"$f":"IF('Корма'!AD29<>0,'Корма'!AD29*'Рецепт'!$B36/100,\"\")","v":""},{"$f":"'Корма'!AE29*'Рецепт'!$B36/100","v":0},{"$f":"'Корма'!AF29*'Рецепт'!$B36/100","v":0},{"$f":"IF('Корма'!AG29<>0,'Корма'!AG29*'Рецепт'!$B36/100,\"\")","v":""},{"$f":"IF('Корма'!AH29<>0,'Корма'!AH29*'Рецепт'!$B36/100,\"\")","v":""},{"$f":"IF('Корма'!AI29<>0,'Корма'!AI29*'Рецепт'!$B36/100,\"\")","v":""}]
[{"$f":"IF('Корма'!V30<>0,'Корма'!V30,\"\")","v":""},null,0.0,100.0,{"$f":"IF('Корма'!X30<>0,'Корма'!X30*'Рецепт'!$B37/100,\"\")","v":""},{"$f":"IF('Корма'!Y30<>0,'Корма'!Y30*'Рецепт'!$B37/100,\"\")","v":""},{"$f":"'Корма'!Z30*'Рецепт'!$B37/100","v":0},{"$f":"IF('Корма'!AA30<>0,'Корма'!AA30*'Рецепт'!$B37/100,\"\")","v":""},{"$f":"IF('Корма'!AB30<>0,'Корма'!AB30*'Рецепт'!$B37/100,\"\")","v":""},{"$f":"IF('Корма'!AD30<>0,'Корма'!AD30*'Рецепт'!$B37/100,\"\")","v":""},{"$f":"'Корма'!AE30*'Рецепт'!$B37/100","v":0},{"$f":"'Корма'!AF30*'Рецепт'!$B37/100","v":0},{"$f":"IF('Корма'!AG30<>0,'Корма'!AG30*'Рецепт'!$B37/100,\"\")","v":""},{"$f":"IF('Корма'!AH30<>0,'Корма'!AH30*'Рецепт'!$B37/100,\"\")","v":""},{"$f":"IF('Корма'!AI30<>0,'Корма'!AI30*'Рецепт'!$B37/100,\"\")","v":""}]
[{"$f":"IF('Корма'!V31<>0,'Корма'!V31,\"\")","v":""},null,0.0,100.0,{"$f":"IF('Корма'!X31<>0,'Корма'!X31*'Рецепт'!$B38/100,\"\")","v":""},{"$f":"IF('Корма'!Y31<>0,'Корма'!Y31*'Рецепт'!$B38/100,\"\")","v":""},{"$f":"'Корма'!Z31*'Рецепт'!$B38/100","v":0},{"$f":"IF('Корма'!AA31<>0,'Корма'!AA31*'Рецепт'!$B38/100,\"\")","v":""},{"$f":"IF('Корма'!AB31<>0,'Корма'!AB31*'Рецепт'!$B38/100,\"\")","v":""},{"$f":"IF('Корма'!AD31<>0,'Корма'!AD31*'Рецепт'!$B38/100,\"\")","v":""},{"$f":"'Корма'!AE31*'Рецепт'!$B38/100","v":0},{"$f":"'Корма'!AF31*'Рецепт'!$B38/100","v":0},{"$f":"IF('Корма'!AG31<>0,'Корма'!AG31*'Рецепт'!$B38/100,\"\")","v":""},{"$f":"IF('Корма'!AH31<>0,'Корма'!AH31*'Рецепт'!$B38/100,\"\")","v":""},{"$f":"IF('Корма'!AI31<>0,'Корма'!AI31*'Рецепт'!$B38/100,\"\")","v":""}]
[{"$f":"IF('Корма'!V32<>0,'Корма'!V32,\"\")","v":""},null,0.0,100.0,{"$f":"IF('Корма'!X32<>0,'Корма'!X32*'Рецепт'!$B39/100,\"\")","v":""},{"$f":"IF('Корма'!Y32<>0,'Корма'!Y32*'Рецепт'!$B39/100,\"\")","v":""},{"$f":"'Корма'!Z32*'Рецепт'!$B39/100","v":0},{"$f":"IF('Корма'!AA32<>0,'Корма'!AA32*'Рецепт'!$B39/100,\"\")","v":""},{"$f":"IF('Корма'!AB32<>0,'Корма'!AB32*'Рецепт'!$B39/100,\"\")","v":""},{"$f":"IF('Корма'!AD32<>0,'Корма'!AD32*'Рецепт'!$B39/100,\"\")","v":""},{"$f":"'Корма'!AE32*'Рецепт'!$B39/100","v":0},{"$f":"'Корма'!AF32*'Рецепт'!$B39/100","v":0},{"$f":"IF('Корма'!AG32<>0,'Корма'!AG32*'Рецепт'!$B39/100,\"\")","v":""},{"$f":"IF('Корма'!AH32<>0,'Корма'!AH32*'Рецепт'!$B39/100,\"\")","v":""},{"$f":"IF('Корма'!AI32<>0,'Корма'!AI32*'Рецепт'!$B39/100,\"\")","v":""}]
[{"$f":"IF('Корма'!V33<>0,'Корма'!V33,\"\")","v":""},null,0.0,100.0,{"$f":"IF('Корма'!X33<>0,'Корма'!X33*'Рецепт'!$B40/100,\"\")","v":""},{"$f":"IF('Корма'!Y33<>0,'Корма'!Y33*'Рецепт'!$B40/100,\"\")","v":""},{"$f":"'Корма'!Z33*'Рецепт'!$B40/100","v":0},{"$f":"IF('Корма'!AA33<>0,'Корма'!AA33*'Рецепт'!$B40/100,\"\")","v":""},{"$f":"IF('Корма'!AB33<>0,'Корма'!AB33*'Рецепт'!$B40/100,\"\")","v":""},{"$f":"IF('Корма'!AD33<>0,'Корма'!AD33*'Рецепт'!$B40/100,\"\")","v":""},{"$f":"'Корма'!AE33*'Рецепт'!$B40/100","v":0},{"$f":"'Корма'!AF33*'Рецепт'!$B40/100","v":0},{"$f":"IF('Корма'!AG33<>0,'Корма'!AG33*'Рецепт'!$B40/100,\"\")","v":""},{"$f":"IF('Корма'!AH33<>0,'Корма'!AH33*'Рецепт'!$B40/100,\"\")","v":""},{"$f":"IF('Корма'!AI33<>0,'Корма'!AI33*'Рецепт'!$B40/100,\"\")","v":""}]
[{"$f":"IF('Корма'!V34<>0,'Корма'!V34,\"\")","v":""},null,0.0,100.0,{"$f":"IF('Корма'!X34<>0,'Корма'!X34*'Рецепт'!$B41/100,\"\")","v":""},{"$f":"IF('Корма'!Y34<>0,'Корма'!Y34*'Рецепт'!$B41/100,\"\")","v":""},{"$f":"'Корма'!Z34*'Рецепт'!$B41/100","v":0},{"$f":"IF('Корма'!AA34<>0,'Корма'!AA34*'Рецепт'!$B41/100,\"\")","v":""},{"$f":"IF('Корма'!AB34<>0,'Корма'!AB34*'Рецепт'!$B41/100,\"\")","v":""},{"$f":"IF('Корма'!AD34<>0,'Корма'!AD34*'Рецепт'!$B41/100,\"\")","v":""},{"$f":"'Корма'!AE34*'Рецепт'!$B41/100","v":0},{"$f":"'Корма'!AF34*'Рецепт'!$B41/100","v":0},{"$f":"IF('Корма'!AG34<>0,'Корма'!AG34*'Рецепт'!$B41/100,\"\")","v":""},{"$f":"IF('Корма'!AH34<>0,'Корма'!AH34*'Рецепт'!$B41/100,\"\")","v":""},{"$f":"IF('Корма'!AI34<>0,'Корма'!AI34*'Рецепт'!$B41/100,\"\")","v":""}]
[{"$f":"IF('Корма'!V35<>0,'Корма'!V35,\"\")","v":""},null,0.0,100.0,{"$f":"IF('Корма'!X35<>0,'Корма'!X35*'Рецепт'!$B42/100,\"\")","v":""},{"$f":"IF('Корма'!Y35<>0,'Корма'!Y35*'Рецепт'!$B42/100,\"\")","v":""},{"$f":"'Корма'!Z35*'Рецепт'!$B42/100","v":0},{"$f":"IF('Корма'!AA35<>0,'Корма'!AA35*'Рецепт'!$B42/100,\"\")","v":""},{"$f":"IF('Корма'!AB35<>0,'Корма'!AB35*'Рецепт'!$B42/100,\"\")","v":""},{"$f":"IF('Корма'!AD35<>0,'Корма'!AD35*'Рецепт'!$B42/100,\"\")","v":""},{"$f":"'Корма'!AE35*'Рецепт'!$B42/100","v":0},{"$f":"'Корма'!AF35*'Рецепт'!$B42/100","v":0},{"$f":"IF('Корма'!AG35<>0,'Корма'!AG35*'Рецепт'!$B42/100,\"\")","v":""},{"$f":"IF('Корма'!AH35<>0,'Корма'!AH35*'Рецепт'!$B42/100,\"\")","v":""},{"$f":"IF('Корма'!AI35<>0,'Корма'!AI35*'Рецепт'!$B42/100,\"\")","v":""}]
[{"$f":"IF('Корма'!V36<>0,'Корма'!V36,\"\")","v":""},null,0.0,100.0,{"$f":"IF('Корма'!X36<>0,'Корма'!X36*'Рецепт'!$B43/100,\"\")","v":""},{"$f":"IF('Корма'!Y36<>0,'Корма'!Y36*'Рецепт'!$B43/100,\"\")","v":""},{"$f":"'Корма'!Z36*'Рецепт'!$B43/100","v":0},{"$f":"IF('Корма'!AA36<>0,'Корма'!AA36*'Рецепт'!$B43/100,\"\")","v":""},{"$f":"IF('Корма'!AB36<>0,'Корма'!AB36*'Рецепт'!$B43/100,\"\")","v":""},{"$f":"IF('Корма'!AD36<>0,'Корма'!AD36*'Рецепт'!$B43/100,\"\")","v":""},{"$f":"'Корма'!AE36*'Рецепт'!$B43/100","v":0},{"$f":"'Корма'!AF36*'Рецепт'!$B43/100","v":0},{"$f":"IF('Корма'!AG36<>0,'Корма'!AG36*'Рецепт'!$B43/100,\"\")","v":""},{"$f":"IF('Корма'!AH36<>0,'Корма'!AH36*'Рецепт'!$B43/100,\"\")","v":""},{"$f":"IF('Корма'!AI36<>0,'Корма'!AI36*'Рецепт'!$B43/100,\"\")","v":""}]
[{"$f":"IF('Корма'!V37<>0,'Корма'!V37,\"\")","v":""},null,0.0,100.0,{"$f":"IF('Корма'!X37<>0,'Корма'!X37*'Рецепт'!$B44/100,\"\")","v":""},{"$f":"IF('Корма'!Y37<>0,'Корма'!Y37*'Рецепт'!$B44/100,\"\")","v":""},{"$f":"'Корма'!Z37*'Рецепт'!$B44/100","v":0},{"$f":"IF('Корма'!AA37<>0,'Корма'!AA37*'Рецепт'!$B44/100,\"\")","v":""},{"$f":"IF('Корма'!AB37<>0,'Корма'!AB37*'Рецепт'!$B44/100,\"\")","v":""},{"$f":"IF('Корма'!AD37<>0,'Корма'!AD37*'Рецепт'!$B44/100,\"\")","v":""},{"$f":"'Корма'!AE37*'Рецепт'!$B44/100","v":0},{"$f":"'Корма'!AF37*'Рецепт'!$B44/100","v":0},{"$f":"IF('Корма'!AG37<>0,'Корма'!AG37*'Рецепт'!$B44/100,\"\")","v":""},{"$f":"IF('Корма'!AH37<>0,'Корма'!AH37*'Рецепт'!$B44/100,\"\")","v":""},{"$f":"IF('Корма'!AI37<>0,'Корма'!AI37*'Рецепт'!$B44/100,\"\")","v":""}]
[{"$f":"IF('Корма'!V38<>0,'Корма'!V38,\"\")","v":""},null,0.0,100.0,{"$f":"IF('Корма'!X38<>0,'Корма'!X38*'Рецепт'!$B45/100,\"\")","v":""},{"$f":"IF('Корма'!Y38<>0,'Корма'!Y38*'Рецепт'!$B45/100,\"\")","v":""},{"$f":"'Корма'!Z38*'Рецепт'!$B45/100","v":0},{"$f":"IF('Корма'!AA38<>0,'Корма'!AA38*'Рецепт'!$B45/100,\"\")","v":""},{"$f":"IF('Корма'!AB38<>0,'Корма'!AB38*'Рецепт'!$B45/100,\"\")","v":""},{"$f":"IF('Корма'!AD38<>0,'Корма'!AD38*'Рецепт'!$B45/100,\"\")","v":""},{"$f":"'Корма'!AE38*'Рецепт'!$B45/100","v":0},{"$f":"'Корма'!AF38*'Рецепт'!$B45/100","v":0},{"$f":"IF('Корма'!AG38<>0,'Корма'!AG38*'Рецепт'!$B45/100,\"\")","v":""},{"$f":"IF('Корма'!AH38<>0,'Корма'!AH38*'Рецепт'!$B45/100,\"\")","v":""},{"$f":"IF('Корма'!AI38<>0,'Корма'!AI38*'Рецепт'!$B45/100,\"\")","v":""}]
[{"$f":"IF('Корма'!V39<>0,'Корма'!V39,\"\")","v":""},null,0.0,100.0,{"$f":"IF('Корма'!X39<>0,'Корма'!X39*'Рецепт'!$B46/100,\"\")","v":""},{"$f":"IF('Корма'!Y39<>0,'Корма'!Y39*'Рецепт'!$B46/100,\"\")","v":""},{"$f":"'Корма'!Z39*'Рецепт'!$B46/100","v":0},{"$f":"IF('Корма'!AA39<>0,'Корма'!AA39*'Рецепт'!$B46/100,\"\")","v":""},{"$f":"IF('Корма'!AB39<>0,'Корма'!AB39*'Рецепт'!$B46/100,\"\")","v":""},{"$f":"IF('Корма'!AD39<>0,'Корма'!AD39*'Рецепт'!$B46/100,\"\")","v":""},{"$f":"'Корма'!AE39*'Рецепт'!$B46/100","v":0},{"$f":"'Корма'!AF39*'Рецепт'!$B46/100","v":0},{"$f":"IF('Корма'!AG39<>0,'Корма'!AG39*'Рецепт'!$B46/100,\"\")","v":""},{"$f":"IF('Корма'!AH39<>0,'Корма'!AH39*'Рецепт'!$B46/100,\"\")","v":""},{"$f":"IF('Корма'!AI39<>0,'Корма'!AI39*'Рецепт'!$B46/100,\"\")","v":""}]
[{"$f":"IF('Корма'!V40<>0,'Корма'!V40,\"\")","v":""},null,0.0,100.0,{"$f":"IF('Корма'!X40<>0,'Корма'!X40*'Рецепт'!$B47/100,\"\")","v":""},{"$f":"IF('Корма'!Y40<>0,'Корма'!Y40*'Рецепт'!$B47/100,\"\")","v":""},{"$f":"'Корма'!Z40*'Рецепт'!$B47/100","v":0},{"$f":"IF('Корма'!AA40<>0,'Корма'!AA40*'Рецепт'!$B47/100,\"\")","v":""},{"$f":"IF('Корма'!AB40<>0,'Корма'!AB40*'Рецепт'!$B47/100,\"\")","v":""},{"$f":"IF('Корма'!AD40<>0,'Корма'!AD40*'Рецепт'!$B47/100,\"\")","v":""},{"$f":"'Корма'!AE40*'Рецепт'!$B47/100","v":0},{"$f":"'Корма'!AF40*'Рецепт'!$B47/100","v":0},{"$f":"IF('Корма'!AG40<>0,'Корма'!AG40*'Рецепт'!$B47/100,\"\")","v":""},{"$f":"IF('Корма'!AH40<>0,'Корма'!AH40*'Рецепт'!$B47/100,\"\")","v":""},{"$f":"IF('Корма'!AI40<>0,'Корма'!AI40*'Рецепт'!$B47/100,\"\")","v":""}]
[{"$f":"IF('Корма'!V41<>0,'Корма'!V41,\"\")","v":""},null,0.0,100.0,{"$f":"IF('Корма'!X41<>0,'Корма'!X41*'Рецепт'!$B48/100,\"\")","v":""},{"$f":"IF('Корма'!Y41<>0,'Корма'!Y41*'Рецепт'!$B48/100,\"\")","v":""},{"$f":"'Корма'!Z41*'Рецепт'!$B48/100","v":0},{"$f":"IF('Корма'!AA41<>0,'Корма'!AA41*'Рецепт'!$B48/100,\"\")","v":""},{"$f":"IF('Корма'!AB41<>0,'Корма'!AB41*'Рецепт'!$B48/100,\"\")","v":""},{"$f":"IF('Корма'!AD41<>0,'Корма'!AD41*'Рецепт'!$B48/100,\"\")","v":""},{"$f":"'Корма'!AE41*'Рецепт'!$B48/100","v":0},{"$f":"'Корма'!AF41*'Рецепт'!$B48/100","v":0},{"$f":"IF('Корма'!AG41<>0,'Корма'!AG41*'Рецепт'!$B48/100,\"\")","v":""},{"$f":"IF('Корма'!AH41<>0,'Корма'!AH41*'Рецепт'!$B48/100,\"\")","v":""},{"$f":"IF('Корма'!AI41<>0,'Корма'!AI41*'Рецепт'!$B48/100,\"\")","v":""}]
[{"$f":"IF('Корма'!V42<>0,'Корма'!V42,\"\")","v":""},null,0.0,100.0,{"$f":"IF('Корма'!X42<>0,'Корма'!X42*'Рецепт'!$B49/100,\"\")","v":""},{"$f":"IF('Корма'!Y42<>0,'Корма'!Y42*'Рецепт'!$B49/100,\"\")","v":""},{"$f":"'Корма'!Z42*'Рецепт'!$B49/100","v":0},{"$f":"IF('Корма'!AA42<>0,'Корма'!AA42*'Рецепт'!$B49/100,\"\")","v":""},{"$f":"IF('Корма'!AB42<>0,'Корма'!AB42*'Рецепт'!$B49/100,\"\")","v":""},{"$f":"IF('Корма'!AD42<>0,'Корма'!AD42*'Рецепт'!$B49/100,\"\")","v":""},{"$f":"'Корма'!AE42*'Рецепт'!$B49/100","v":0},{"$f":"'Корма'!AF42*'Рецепт'!$B49/100","v":0},{"$f":"IF('Корма'!AG42<>0,'Корма'!AG42*'Рецепт'!$B49/100,\"\")","v":""},{"$f":"IF('Корма'!AH42<>0,'Корма'!AH42*'Рецепт'!$B49/100,\"\")","v":""},{"$f":"IF('Корма'!AI42<>0,'Корма'!AI42*'Рецепт'!$B49/100,\"\")","v":""}]
[{"$f":"IF('Корма'!V43<>0,'Корма'!V43,\"\")","v":""},null,0.0,100.0,{"$f":"IF('Корма'!X43<>0,'Корма'!X43*'Рецепт'!$B50/100,\"\")","v":""},{"$f":"IF('Корма'!Y43<>0,'Корма'!Y43*'Рецепт'!$B50/100,\"\")","v":""},{"$f":"'Корма'!Z43*'Рецепт'!$B50/100","v":0},{"$f":"IF('Корма'!AA43<>0,'Корма'!AA43*'Рецепт'!$B50/100,\"\")","v":""},{"$f":"IF('Корма'!AB43<>0,'Корма'!AB43*'Рецепт'!$B50/100,\"\")","v":""},{"$f":"IF('Корма'!AD43<>0,'Корма'!AD43*'Рецепт'!$B50/100,\"\")","v":""},{"$f":"'Корма'!AE43*'Рецепт'!$B50/100","v":0},{"$f":"'Корма'!AF43*'Рецепт'!$B50/100","v":0},{"$f":"IF('Корма'!AG43<>0,'Корма'!AG43*'Рецепт'!$B50/100,\"\")","v":""},{"$f":"IF('Корма'!AH43<>0,'Корма'!AH43*'Рецепт'!$B50/100,\"\")","v":""},{"$f":"IF('Корма'!AI43<>0,'Корма'!AI43*'Рецепт'!$B50/100,\"\")","v":""}]
[{"$f":"IF('Корма'!V44<>0,'Корма'!V44,\"\")","v":""},null,0.0,100.0,{"$f":"IF('Корма'!X44<>0,'Корма'!X44*'Рецепт'!$B51/100,\"\")","v":""},{"$f":"IF('Корма'!Y44<>0,'Корма'!Y44*'Рецепт'!$B51/100,\"\")","v":""},{"$f":"'Корма'!Z44*'Рецепт'!$B51/100","v":0},{"$f":"IF('Корма'!AA44<>0,'Корма'!AA44*'Рецепт'!$B51/100,\"\")","v":""},{"$f":"IF('Корма'!AB44<>0,'Корма'!AB44*'Рецепт'!$B51/100,\"\")","v":""},{"$f":"IF('Корма'!AD44<>0,'Корма'!AD44*'Рецепт'!$B51/100,\"\")","v":""},{"$f":"'Корма'!AE44*'Рецепт'!$B51/100","v":0},{"$f":"'Корма'!AF44*'Рецепт'!$B51/100","v":0},{"$f":"IF('Корма'!AG44<>0,'Корма'!AG44*'Рецепт'!$B51/100,\"\")","v":""},{"$f":"IF('Корма'!AH44<>0,'Корма'!AH44*'Рецепт'!$B51/100,\"\")","v":""},{"$f":"IF('Корма'!AI44<>0,'Корма'!AI44*'Рецепт'!$B51/100,\"\")","v":""}]
[{"$f":"IF('Корма'!V45<>0,'Корма'!V45,\"\")","v":""},null,0.0,100.0,{"$f":"IF('Корма'!X45<>0,'Корма'!X45*'Рецепт'!$B52/100,\"\")","v":""},{"$f":"IF('Корма'!Y45<>0,'Корма'!Y45*'Рецепт'!$B52/100,\"\")","v":""},{"$f":"'Корма'!Z45*'Рецепт'!$B52/100","v":0},{"$f":"IF('Корма'!AA45<>0,'Корма'!AA45*'Рецепт'!$B52/100,\"\")","v":""},{"$f":"IF('Корма'!AB45<>0,'Корма'!AB45*'Рецепт'!$B52/100,\"\")","v":""},{"$f":"IF('Корма'!AD45<>0,'Корма'!AD45*'Рецепт'!$B52/100,\"\")","v":""},{"$f":"'Корма'!AE45*'Рецепт'!$B52/100","v":0},{"$f":"'Корма'!AF45*'Рецепт'!$B52/100","v":0},{"$f":"IF('Корма'!AG45<>0,'Корма'!AG45*'Рецепт'!$B52/100,\"\")","v":""},{"$f":"IF('Корма'!AH45<>0,'Корма'!AH45*'Рецепт'!$B52/100,\"\")","v":""},{"$f":"IF('Корма'!AI45<>0,'Корма'!AI45*'Рецепт'!$B52/100,\"\")","v":""}]
[{"$f":"IF('Корма'!V46<>0,'Корма'!V46,\"\")","v":""},null,0.0,100.0,{"$f":"IF('Корма'!X46<>0,'Корма'!X46*'Рецепт'!$B53/100,\"\")","v":""},{"$f":"IF('Корма'!Y46<>0,'Корма'!Y46*'Рецепт'!$B53/100,\"\")","v":""},{"$f":"'Корма'!Z46*'Рецепт'!$B53/100","v":0},{"$f":"IF('Корма'!AA46<>0,'Корма'!AA46*'Рецепт'!$B53/100,\"\")","v":""},{"$f":"IF('Корма'!AB46<>0,'Корма'!AB46*'Рецепт'!$B53/100,\"\")","v":""},{"$f":"IF('Корма'!AD46<>0,'Корма'!AD46*'Рецепт'!$B53/100,\"\")","v":""},{"$f":"'Корма'!AE46*'Рецепт'!$B53/100","v":0},{"$f":"'Корма'!AF46*'Рецепт'!$B53/100","v":0},{"$f":"IF('Корма'!AG46<>0,'Корма'!AG46*'Рецепт'!$B53/100,\"\")","v":""},{"$f":"IF('Корма'!AH46<>0,'Корма'!AH46*'Рецепт'!$B53/100,\"\")","v":""},{"$f":"IF('Корма'!AI46<>0,'Корма'!AI46*'Рецепт'!$B53/100,\"\")","v":""}]
[{"$f":"IF('Корма'!V47<>0,'Корма'!V47,\"\")","v":""},null,0.0,100.0,{"$f":"IF('Корма'!X47<>0,'Корма'!X47*'Рецепт'!$B54/100,\"\")","v":""},{"$f":"IF('Корма'!Y47<>0,'Корма'!Y47*'Рецепт'!$B54/100,\"\")","v":""},{"$f":"'Корма'!Z47*'Рецепт'!$B54/100","v":0},{"$f":"IF('Корма'!AA47<>0,'Корма'!AA47*'Рецепт'!$B54/100,\"\")","v":""},{"$f":"IF('Корма'!AB47<>0,'Корма'!AB47*'Рецепт'!$B54/100,\"\")","v":""},{"$f":"IF('Корма'!AD47<>0,'Корма'!AD47*'Рецепт'!$B54/100,\"\")","v":""},{"$f":"'Корма'!AE47*'Рецепт'!$B54/100","v":0},{"$f":"'Корма'!AF47*'Рецепт'!$B54/100","v":0},{"$f":"IF('Корма'!AG47<>0,'Корма'!AG47*'Рецепт'!$B54/100,\"\")","v":""},{"$f":"IF('Корма'!AH47<>0,'Корма'!AH47*'Рецепт'!$B54/100,\"\")","v":""},{"$f":"IF('Корма'!AI47<>0,'Корма'!AI47*'Рецепт'!$B54/100,\"\")","v":""}]
[{"$f":"IF('Корма'!V48<>0,'Корма'!V48,\"\")","v":""},null,0.0,100.0,{"$f":"IF('Корма'!X48<>0,'Корма'!X48*'Рецепт'!$B55/100,\"\")","v":""},{"$f":"IF('Корма'!Y48<>0,'Корма'!Y48*'Рецепт'!$B55/100,\"\")","v":""},{"$f":"'Корма'!Z48*'Рецепт'!$B55/100","v":0},{"$f":"IF('Корма'!AA48<>0,'Корма'!AA48*'Рецепт'!$B55/100,\"\")","v":""},{"$f":"IF('Корма'!AB48<>0,'Корма'!AB48*'Рецепт'!$B55/100,\"\")","v":""},{"$f":"IF('Корма'!AD48<>0,'Корма'!AD48*'Рецепт'!$B55/100,\"\")","v":""},{"$f":"'Корма'!AE48*'Рецепт'!$B55/100","v":0},{"$f":"'Корма'!AF48*'Рецепт'!$B55/100","v":0},{"$f":"IF('Корма'!AG48<>0,'Корма'!AG48*'Рецепт'!$B55/100,\"\")","v":""},{"$f":"IF('Корма'!AH48<>0,'Корма'!AH48*'Рецепт'!$B55/100,\"\")","v":""},{"$f":"IF('Корма'!AI48<>0,'Корма'!AI48*'Рецепт'!$B55/100,\"\")","v":""}]

{"sheet":"Справка","index":3,"n_rows":26,"n_cols":3,"rows_kept":26,"cut":false,"hidden":false,"merged":[]}
["Максимальные (предельные) нормы ввода компонентов в комбикорма для прудовых карповых рыб, %"]
["Компоненты","Товарный карп","Производители, племенной молодняк и сеголетки"]
["Кукуруза",30.0,30.0]
["Пшеница",40.0,40.0]
["Ячмень",40.0,40.0]
["Овес",5.0,5.0]
["Горох",20.0,15.0]
["Люпин (безалколоидный) кормовой",20.0,15.0]
["Побочный продукт с содержанием полезного зерна выше 50%",50.0,50.0]
["Рожь",7.0,7.0]
["Пшеничные отруби",20.0,15.0]
["Ржаные отруби",20.0,10.0]
["Мука ячменная",20.0,10.0]
["Травяная мука",5.0,5.0]
["Мука витаминная из древесной зелени",3.0,3.0]
["Шрот подсолнечниковый",55.0,55.0]
["Шрот соевый",30.0,30.0]
["Шрот арахисовый",30.0,30.0]
["Шрот льняной",10.0,10.0]
["Шрот хлопковый",40.0,30.0]
["Рыбная кормовая  мука",10.0,10.0]
["Мука корм, животного происхождения",10.0,10.0]
["Дрожжи кормовые гидролизные",5.0,5.0]
["Кормовые фосфаты",1.0,1.0]
["Мел",2.0,2.0]
["Соль",3.0,3.0]